BEGIN:VCALENDAR
VERSION:2.0
PRODID:-//AA Des Moines - ECPv6.15.20//NONSGML v1.0//EN
CALSCALE:GREGORIAN
METHOD:PUBLISH
X-ORIGINAL-URL:https://aadesmoines.org
X-WR-CALDESC:Events for AA Des Moines
REFRESH-INTERVAL;VALUE=DURATION:PT1H
X-Robots-Tag:noindex
X-PUBLISHED-TTL:PT1H
BEGIN:VTIMEZONE
TZID:America/Chicago
BEGIN:DAYLIGHT
TZOFFSETFROM:-0600
TZOFFSETTO:-0500
TZNAME:CDT
DTSTART:20250309T080000
END:DAYLIGHT
BEGIN:STANDARD
TZOFFSETFROM:-0500
TZOFFSETTO:-0600
TZNAME:CST
DTSTART:20251102T070000
END:STANDARD
BEGIN:DAYLIGHT
TZOFFSETFROM:-0600
TZOFFSETTO:-0500
TZNAME:CDT
DTSTART:20260308T080000
END:DAYLIGHT
BEGIN:STANDARD
TZOFFSETFROM:-0500
TZOFFSETTO:-0600
TZNAME:CST
DTSTART:20261101T070000
END:STANDARD
BEGIN:DAYLIGHT
TZOFFSETFROM:-0600
TZOFFSETTO:-0500
TZNAME:CDT
DTSTART:20270314T080000
END:DAYLIGHT
BEGIN:STANDARD
TZOFFSETFROM:-0500
TZOFFSETTO:-0600
TZNAME:CST
DTSTART:20271107T070000
END:STANDARD
END:VTIMEZONE
BEGIN:VEVENT
DTSTART;TZID=America/Chicago:20260705T130000
DTEND;TZID=America/Chicago:20260705T140000
DTSTAMP:20260423T023510
CREATED:20260124T202827Z
LAST-MODIFIED:20260124T202827Z
UID:262173-1783256400-1783260000@aadesmoines.org
SUMMARY:PI/CPC Monthly Meeting 
DESCRIPTION:The Whitehouse\n1st Sunday of the Month at 1pm
URL:https://aadesmoines.org/event/pi-cpc-monthly-meeting-10/
END:VEVENT
BEGIN:VEVENT
DTSTART;TZID=America/Chicago:20260715T180000
DTEND;TZID=America/Chicago:20260715T190000
DTSTAMP:20260423T023510
CREATED:20260124T210052Z
LAST-MODIFIED:20260124T210052Z
UID:262195-1784138400-1784142000@aadesmoines.org
SUMMARY:Treatment and Corrections
DESCRIPTION:The Whitehouse\n3rd Wednesday of the month at 6pm
URL:https://aadesmoines.org/event/treatment-and-corrections-9/
END:VEVENT
END:VCALENDAR