BEGIN:VCALENDAR
VERSION:2.0
PRODID:-//AA Des Moines - ECPv6.15.20//NONSGML v1.0//EN
CALSCALE:GREGORIAN
METHOD:PUBLISH
X-ORIGINAL-URL:https://aadesmoines.org
X-WR-CALDESC:Events for AA Des Moines
REFRESH-INTERVAL;VALUE=DURATION:PT1H
X-Robots-Tag:noindex
X-PUBLISHED-TTL:PT1H
BEGIN:VTIMEZONE
TZID:America/Chicago
BEGIN:DAYLIGHT
TZOFFSETFROM:-0600
TZOFFSETTO:-0500
TZNAME:CDT
DTSTART:20230312T080000
END:DAYLIGHT
BEGIN:STANDARD
TZOFFSETFROM:-0500
TZOFFSETTO:-0600
TZNAME:CST
DTSTART:20231105T070000
END:STANDARD
BEGIN:DAYLIGHT
TZOFFSETFROM:-0600
TZOFFSETTO:-0500
TZNAME:CDT
DTSTART:20240310T080000
END:DAYLIGHT
BEGIN:STANDARD
TZOFFSETFROM:-0500
TZOFFSETTO:-0600
TZNAME:CST
DTSTART:20241103T070000
END:STANDARD
BEGIN:DAYLIGHT
TZOFFSETFROM:-0600
TZOFFSETTO:-0500
TZNAME:CDT
DTSTART:20250309T080000
END:DAYLIGHT
BEGIN:STANDARD
TZOFFSETFROM:-0500
TZOFFSETTO:-0600
TZNAME:CST
DTSTART:20251102T070000
END:STANDARD
END:VTIMEZONE
BEGIN:VEVENT
DTSTART;TZID=America/Chicago:20241013T150000
DTEND;TZID=America/Chicago:20241013T160000
DTSTAMP:20260425T114502
CREATED:20190120T214253Z
LAST-MODIFIED:20190120T214253Z
UID:241830-1728831600-1728835200@aadesmoines.org
SUMMARY:District 7 Meeting
DESCRIPTION:Topic: District 7 Business Meeting\nTime: 3-4 pm\nDate: 2nd Sunday of the month\nPlace: White House
URL:https://aadesmoines.org/event/district-7-meeting-11-2020-06-14-2024-10-13/
LOCATION:White House\, 1400 Pennsylvania Ave\, Des Moines\, IA\, 50316\, United States
CATEGORIES:Committee Meetings
END:VEVENT
END:VCALENDAR