BEGIN:VCALENDAR
VERSION:2.0
PRODID:-//AA Des Moines - ECPv6.15.20//NONSGML v1.0//EN
CALSCALE:GREGORIAN
METHOD:PUBLISH
X-WR-CALNAME:AA Des Moines
X-ORIGINAL-URL:https://aadesmoines.org
X-WR-CALDESC:Events for AA Des Moines
REFRESH-INTERVAL;VALUE=DURATION:PT1H
X-Robots-Tag:noindex
X-PUBLISHED-TTL:PT1H
BEGIN:VTIMEZONE
TZID:America/Chicago
BEGIN:DAYLIGHT
TZOFFSETFROM:-0600
TZOFFSETTO:-0500
TZNAME:CDT
DTSTART:20180311T080000
END:DAYLIGHT
BEGIN:STANDARD
TZOFFSETFROM:-0500
TZOFFSETTO:-0600
TZNAME:CST
DTSTART:20181104T070000
END:STANDARD
BEGIN:DAYLIGHT
TZOFFSETFROM:-0600
TZOFFSETTO:-0500
TZNAME:CDT
DTSTART:20190310T080000
END:DAYLIGHT
BEGIN:STANDARD
TZOFFSETFROM:-0500
TZOFFSETTO:-0600
TZNAME:CST
DTSTART:20191103T070000
END:STANDARD
BEGIN:DAYLIGHT
TZOFFSETFROM:-0600
TZOFFSETTO:-0500
TZNAME:CDT
DTSTART:20200308T080000
END:DAYLIGHT
BEGIN:STANDARD
TZOFFSETFROM:-0500
TZOFFSETTO:-0600
TZNAME:CST
DTSTART:20201101T070000
END:STANDARD
END:VTIMEZONE
BEGIN:VEVENT
DTSTART;TZID=America/Chicago:20191219T180000
DTEND;TZID=America/Chicago:20191219T210000
DTSTAMP:20260423T155153
CREATED:20191205T034442Z
LAST-MODIFIED:20191205T035157Z
UID:4557-1576778400-1576789200@aadesmoines.org
SUMMARY:Foxhall Holiday Party
DESCRIPTION:Foxhall Holiday Party \nDecember 19\, 2019 \nDinner at 6pm \nMeeting at 7:30pm \nSpeaker Stacy P @ 8pm \nPlease bring a side dish to share
URL:https://aadesmoines.org/event/foxhall-holiday-party/
LOCATION:First United Methodist Church\, 1001 Pleasant St\, Des Moines\, IA\, 50309\, United States
CATEGORIES:Group Event,Meeting,Potluck/Picnic/BBQ
END:VEVENT
BEGIN:VEVENT
DTSTART;TZID=America/Chicago:20191218T173000
DTEND;TZID=America/Chicago:20191218T190000
DTSTAMP:20260423T155153
CREATED:20191211T004753Z
LAST-MODIFIED:20191211T004753Z
UID:4742-1576690200-1576695600@aadesmoines.org
SUMMARY:The Deal’s Annual Chili Feed and Potluck
DESCRIPTION:Chili\, Bowls\, Spoons and Napkins provided! \nPlease bring a side dish or dessert to share. \nDecember 18th from 5:30p to 7:00p \nEveryone is welcome
URL:https://aadesmoines.org/event/the-deals-annual-chili-feed-and-potluck/
LOCATION:White House\, 1400 Pennsylvania Ave\, Des Moines\, IA\, 50316\, United States
CATEGORIES:Group Event,Potluck/Picnic/BBQ
END:VEVENT
BEGIN:VEVENT
DTSTART;TZID=America/Chicago:20191214T170000
DTEND;TZID=America/Chicago:20191214T210000
DTSTAMP:20260423T155153
CREATED:20191025T190915Z
LAST-MODIFIED:20191025T190915Z
UID:3302-1576342800-1576357200@aadesmoines.org
SUMMARY:White House Presents: The Polar Express Pajama Party with Santa!
DESCRIPTION:The Polar Express Pajama Party with Santa! \nSATURDAY DECEMBER 14TH \nTHE WHITE HOUSE: 1400 PENNSYLVANIA AVE \nTickets: $5 \nEvent Schedule:\nDINNER – 5:00PM\nSANTA PICTURES – 5:30PM\nSTORY READING – 6:30PM\nMOVIE SHOWING – 7:00PM \n**To register your child to receive a FREE gift from Santa\, please contact Jenn Cosby at 515-689-6818 by November 27th** Pajamas for the whole family are encouraged \nsee attached flyer
URL:https://aadesmoines.org/event/white-house-presents-the-polar-express-pajama-party-with-santa/
LOCATION:White House\, 1400 Pennsylvania Ave\, Des Moines\, IA\, 50316\, United States
CATEGORIES:Group Event
END:VEVENT
BEGIN:VEVENT
DTSTART;TZID=America/Chicago:20191210T170000
DTEND;TZID=America/Chicago:20191210T190000
DTSTAMP:20260423T155153
CREATED:20191113T030816Z
LAST-MODIFIED:20191129T170920Z
UID:3382-1575997200-1576004400@aadesmoines.org
SUMMARY:Keep It Simple Sister 2nd Anniversary
DESCRIPTION:2nd Anniversary Celebration\n\nKeep It Simple Sister\nTuesday December 10th at 5pm\n\nDownstairs at the White House\n\nSpeaker Barb J  @ 6pm\n\nPotluck and Fellowship\nBring a side dish to share\n\nsee attached flyer
URL:https://aadesmoines.org/event/keep-it-simple-sister-2nd-anniversary/
LOCATION:White House\, 1400 Pennsylvania Ave\, Des Moines\, IA\, 50316\, United States
CATEGORIES:Anniversary,Meeting,Potluck/Picnic/BBQ
END:VEVENT
BEGIN:VEVENT
DTSTART;TZID=America/Chicago:20191208T130000
DTEND;TZID=America/Chicago:20191208T140000
DTSTAMP:20260423T155153
CREATED:20190120T214251Z
LAST-MODIFIED:20191208T214712Z
UID:2375-1575810000-1575813600@aadesmoines.org
SUMMARY:Intergroup Meeting
DESCRIPTION:
URL:https://aadesmoines.org/event/intergroup-meeting-11/
LOCATION:Central Office\, 1620 Pleasant ST Suite 228\, Des Moines\, IA\, 50314\, United States
CATEGORIES:Committee Meetings
END:VEVENT
BEGIN:VEVENT
DTSTART;TZID=America/Chicago:20191208T110000
DTEND;TZID=America/Chicago:20191208T120000
DTSTAMP:20260423T155153
CREATED:20190120T214249Z
LAST-MODIFIED:20191208T214353Z
UID:2364-1575802800-1575806400@aadesmoines.org
SUMMARY:Intergroup Banquet Committee Meeting
DESCRIPTION:For the annual Intergroup Banquet
URL:https://aadesmoines.org/event/intergroup-banquet-committee-meeting-11/
LOCATION:Central Office\, 1620 Pleasant ST Suite 228\, Des Moines\, IA\, 50314\, United States
CATEGORIES:Committee Meetings
END:VEVENT
BEGIN:VEVENT
DTSTART;TZID=America/Chicago:20191207T180000
DTEND;TZID=America/Chicago:20191207T200000
DTSTAMP:20260423T155153
CREATED:20191105T015009Z
LAST-MODIFIED:20191105T015009Z
UID:3309-1575741600-1575748800@aadesmoines.org
SUMMARY:Miracles on 63rd - 38th Anniversary
DESCRIPTION:Miracles on 63rd – 38th Anniversary\nSaturday 12/7/2019\n6:00 p.m.- 8:00 p.m.\nWindsor United Methodist Church\n6222 University Ave.\nDes Moines\, IA 50311\n6:00 p.m. – Cake & Fellowship\n7:00 p.m. – Speaker is Mike L. from Omaha\, Nebraska\n\nsee attached flyer
URL:https://aadesmoines.org/event/miracles-on-63rd-38th-anniversary/
LOCATION:Windsor United Methodist Church\, 6222 University Ave\, Des Moines\, IA\, 50311\, United States
CATEGORIES:Anniversary,Meeting
END:VEVENT
BEGIN:VEVENT
DTSTART;TZID=America/Chicago:20191201T190000
DTEND;TZID=America/Chicago:20191201T210000
DTSTAMP:20260423T155153
CREATED:20190320T030510Z
LAST-MODIFIED:20190320T030510Z
UID:2835-1575226800-1575234000@aadesmoines.org
SUMMARY:Dexter Step Study Group
DESCRIPTION:
URL:https://aadesmoines.org/event/dexter-step-study-group-11/
LOCATION:Dexter United Methodist Church\, 1008 Polk St\, Dexter\, IA\, 50070\, United States
CATEGORIES:Meeting
END:VEVENT
BEGIN:VEVENT
DTSTART;TZID=America/Chicago:20191128T190000
DTEND;TZID=America/Chicago:20191128T190000
DTSTAMP:20260423T155153
CREATED:20191025T190454Z
LAST-MODIFIED:20191025T190454Z
UID:3299-1574967600-1574967600@aadesmoines.org
SUMMARY:White House Gratitude Meeting
DESCRIPTION:White House Gratitude Meeting \nThursday\, November 28th \n7pm \nCome and share what you are grateful for this year at our annual call-up meeting. \nOpen to all family and friends! \nsee attached flyer
URL:https://aadesmoines.org/event/white-house-gratitude-meeting/
LOCATION:White House\, 1400 Pennsylvania Ave\, Des Moines\, IA\, 50316\, United States
CATEGORIES:Meeting
END:VEVENT
BEGIN:VEVENT
DTSTART;TZID=America/Chicago:20191128T120000
DTEND;TZID=America/Chicago:20191128T150000
DTSTAMP:20260423T155153
CREATED:20191113T030233Z
LAST-MODIFIED:20191113T030233Z
UID:3379-1574942400-1574953200@aadesmoines.org
SUMMARY:Mason City Clubhouse Thanksgiving Dinner
DESCRIPTION:Thanksgiving Dinner\nMason City Clubhouse\n207 8th Place SE\nMason City\, IA\nThursday\, November 28\nDoor open 8 AM\nMeal at Noon\n\nMeeting 2 PM\nProceeds go to Christmas Day Dinner\nBring a dish to share!\nSign-up sheet at MC Clubhouse\n\nsee attached flyer
URL:https://aadesmoines.org/event/mason-city-clubhouse-thanksgiving-dinner/
LOCATION:Mason City Clubhouse\, 207 8th Place SE\, Mason City\, IA\, 50401\, United States
CATEGORIES:Meeting,Potluck/Picnic/BBQ
END:VEVENT
BEGIN:VEVENT
DTSTART;TZID=America/Chicago:20191128T120000
DTEND;TZID=America/Chicago:20191128T120000
DTSTAMP:20260423T155153
CREATED:20191025T191234Z
LAST-MODIFIED:20191025T191234Z
UID:3305-1574942400-1574942400@aadesmoines.org
SUMMARY:White House Presents: Thanksgiving Dinner
DESCRIPTION:Join us for a delicious traditional dinner at the White House on Thanksgiving Day. Please bring a side dish or dessert to share. Dinner will be served at noon. \nsee attached flyer
URL:https://aadesmoines.org/event/white-house-presents-thanksgiving-dinner/
LOCATION:White House\, 1400 Pennsylvania Ave\, Des Moines\, IA\, 50316\, United States
CATEGORIES:Group Event,Potluck/Picnic/BBQ
END:VEVENT
BEGIN:VEVENT
DTSTART;TZID=America/Chicago:20191128T060000
DTEND;TZID=America/Chicago:20191128T080000
DTSTAMP:20260423T155153
CREATED:20191117T025432Z
LAST-MODIFIED:20191117T025432Z
UID:3392-1574920800-1574928000@aadesmoines.org
SUMMARY:F&G Gratitude Meeting
DESCRIPTION:Thanksgiving Gratitude Meeting \nCorinthian Baptist Church\n814 School ST\nDes Moines\, IA \nNovember 28th\, 2019\nStarts at 6am \nsee attached flyer
URL:https://aadesmoines.org/event/fg-gratitude-meeting/
LOCATION:Corinthian Baptist Church\, 814 School ST\, Des Moines\, IA\, United States
CATEGORIES:Meeting
END:VEVENT
BEGIN:VEVENT
DTSTART;TZID=America/Chicago:20191123T170000
DTEND;TZID=America/Chicago:20191123T210000
DTSTAMP:20260423T155153
CREATED:20191110T213904Z
LAST-MODIFIED:20191110T213904Z
UID:3331-1574528400-1574542800@aadesmoines.org
SUMMARY:Atlantic AA Fall Fest
DESCRIPTION:Atlantic AA Fall Fest\nSaturday 11/23/2019\nPotluck – 5:00 p.m. – 7:00 p.m.\nRaffle – 7:00 p.m. – 8:00 p.m.\nSpeaker – 8:00 p.m.\n309 Club\n309 Elm St.\nAtlantic\, IA\nWe will provide meat and drinks\nPlease bring a side dish of your choice\nand your family.\n\nsee attached flyer
URL:https://aadesmoines.org/event/atlantic-aa-fall-fest/
LOCATION:309 Club\, 309 Elm St\, Atlantic\, IA\, United States
CATEGORIES:Meeting,Potluck/Picnic/BBQ
END:VEVENT
BEGIN:VEVENT
DTSTART;TZID=America/Chicago:20191122T170000
DTEND;TZID=America/Chicago:20191124T120000
DTSTAMP:20260423T155153
CREATED:20190920T142444Z
LAST-MODIFIED:20190920T142809Z
UID:3237-1574442000-1574596800@aadesmoines.org
SUMMARY:Men’s Freedom Retreat XXXIX
DESCRIPTION:Men’s Freedom Retreat XXXIX\nNovember 22nd-24th\, 2019\nPlace: YMCA Camp 1192 166th Street Boone\, IA\n\nLook at the map.\nBring:  Bedding (sleeping bag\, pillows\, blankets)\, towels\, flashlights\,\ntoiletries\, and snacks for the snack table.\nFirst and Foremost….. Suit Up and Show Up!\nFriday Night Dinner – Pizza @ 6:30pm\nFriday Night Call-Up Meeting @ 7:30pm\nSaturday Step workshops begin @ 9:00am\nFull agenda available at registration.\nWhat To Expect\nTwelve Step Workshops\nA.A. Meetings\nFun and Fellowship\nGet that 5th step done!\n(Men will be available to hear 5th Steps)\nRegister Now!\nTo make your reservation online\, click the link below.\nhttps://mensfreedomretreat.com\n\n\nFor any questions please contact:\ninfo@mensfreedomretreat.com\nRyan B (515) 423-7051\nMike M (515) 661-7538\n“The main thing is that he be willing to believe in a Power greater than himself\nand that he live by spiritual principles.” (Alcoholics Anonymous page 93)
URL:https://aadesmoines.org/event/mens-freedom-retreat-xxxix/
LOCATION:Boone YMCA Camp\, 1192 166th ST\, Boone\, IA\, 50036\, United States
CATEGORIES:Retreat
END:VEVENT
BEGIN:VEVENT
DTSTART;TZID=America/Chicago:20191120T180000
DTEND;TZID=America/Chicago:20191120T190000
DTSTAMP:20260423T155153
CREATED:20190120T214255Z
LAST-MODIFIED:20190120T214255Z
UID:2396-1574272800-1574276400@aadesmoines.org
SUMMARY:Treatment & Corrections Committee Meeting
DESCRIPTION:
URL:https://aadesmoines.org/event/treatment-corrections-committee-meeting-10/
LOCATION:White House\, 1400 Pennsylvania Ave\, Des Moines\, IA\, 50316\, United States
CATEGORIES:Committee Meetings
END:VEVENT
BEGIN:VEVENT
DTSTART;TZID=America/Chicago:20191118T180000
DTEND;TZID=America/Chicago:20191118T210000
DTSTAMP:20260423T155153
CREATED:20191025T185932Z
LAST-MODIFIED:20191025T185932Z
UID:3296-1574100000-1574110800@aadesmoines.org
SUMMARY:Newton AA Group 37th Anniversary
DESCRIPTION:Newton AA Group 37th Anniversary\nMonday 11/18/2019\n6:00 p.m. – Potluck Dinner\n7:00 p.m. – Speakers\nMike M. and Randy T. from Des Moines\nSt. Stephen’s Episcopal Church\n223 E 4th St N\n\nNewton\, IA 50208\n\nsee attached flyer
URL:https://aadesmoines.org/event/newton-aa-group-37th-anniversary/
LOCATION:St. Stephen’s Episcopal Church\, 223 E 4th ST N\, Newton\, IA\, 50208\, United States
CATEGORIES:Anniversary,Meeting
END:VEVENT
BEGIN:VEVENT
DTSTART;TZID=America/Chicago:20191110T150000
DTEND;TZID=America/Chicago:20191110T160000
DTSTAMP:20260423T155153
CREATED:20190120T214253Z
LAST-MODIFIED:20190120T214253Z
UID:2385-1573398000-1573401600@aadesmoines.org
SUMMARY:District 7 Meeting
DESCRIPTION:
URL:https://aadesmoines.org/event/district-7-meeting-10/
LOCATION:White House\, 1400 Pennsylvania Ave\, Des Moines\, IA\, 50316\, United States
CATEGORIES:Committee Meetings
END:VEVENT
BEGIN:VEVENT
DTSTART;TZID=America/Chicago:20191110T130000
DTEND;TZID=America/Chicago:20191110T140000
DTSTAMP:20260423T155153
CREATED:20190120T214251Z
LAST-MODIFIED:20190120T214251Z
UID:2374-1573390800-1573394400@aadesmoines.org
SUMMARY:Intergroup Meeting
DESCRIPTION:
URL:https://aadesmoines.org/event/intergroup-meeting-10/
LOCATION:Central Office\, 1620 Pleasant ST Suite 228\, Des Moines\, IA\, 50314\, United States
CATEGORIES:Committee Meetings
END:VEVENT
BEGIN:VEVENT
DTSTART;TZID=America/Chicago:20191110T110000
DTEND;TZID=America/Chicago:20191110T120000
DTSTAMP:20260423T155153
CREATED:20190120T214249Z
LAST-MODIFIED:20190120T214249Z
UID:2363-1573383600-1573387200@aadesmoines.org
SUMMARY:Intergroup Banquet Committee Meeting
DESCRIPTION:For the annual Intergroup Banquet
URL:https://aadesmoines.org/event/intergroup-banquet-committee-meeting-10/
LOCATION:Central Office\, 1620 Pleasant ST Suite 228\, Des Moines\, IA\, 50314\, United States
CATEGORIES:Committee Meetings
END:VEVENT
BEGIN:VEVENT
DTSTART;TZID=America/Chicago:20191109T100000
DTEND;TZID=America/Chicago:20191109T200000
DTSTAMP:20260423T155153
CREATED:20190927T183121Z
LAST-MODIFIED:20190927T183121Z
UID:3254-1573293600-1573329600@aadesmoines.org
SUMMARY:33rd Annual Fall Mini Conference
DESCRIPTION:“I AM RESPONSIBLE”\n33rd Annual Fall Mini-Conference\nSaturday November 9\, 2019\nTo be held at: Grand View United Methodist Church\n3342 John Wesley Drive\nDubuque\, IA\nRegistration begins at 8:30 A.M.\n$3.00 entry fee\n$7.00 banquet\nMain course provided\nPlease bring dessert or salad to pass.\nPanels sponsored by various groups from District 11\,\nIowa\, Illinois\, and Wisconsin throughout the day\n10:00 A.M. “Our Great Responsibility”\nLunch sponsored by Alateen at 11:45 A.M.\nFollowed by Alateen Speaker: TBA &\nAl-Anon Speaker: TBA Home Group:\nBanquet at 6:00 P.M.\nFollowed by AA Speaker: Troy F.\, Urbana\, IA Home Group: Crossroads Urbana\nRaffle following the speaker\nGreat food\, fun and prizes \nsee attached flyer
URL:https://aadesmoines.org/event/33rd-annual-fall-mini-conference/
LOCATION:Grand View United Methodist Church – Dubuque\, 3342 John Wesley Drive\, Dubuque\, IA\, 52002\, United States
CATEGORIES:Meeting
END:VEVENT
BEGIN:VEVENT
DTSTART;TZID=America/Chicago:20191103T190000
DTEND;TZID=America/Chicago:20191103T210000
DTSTAMP:20260423T155153
CREATED:20190320T030510Z
LAST-MODIFIED:20190320T030510Z
UID:2834-1572807600-1572814800@aadesmoines.org
SUMMARY:Dexter Step Study Group
DESCRIPTION:
URL:https://aadesmoines.org/event/dexter-step-study-group-10/
LOCATION:Dexter United Methodist Church\, 1008 Polk St\, Dexter\, IA\, 50070\, United States
CATEGORIES:Meeting
END:VEVENT
BEGIN:VEVENT
DTSTART;TZID=America/Chicago:20191103T130000
DTEND;TZID=America/Chicago:20191103T140000
DTSTAMP:20260423T155153
CREATED:20190120T214247Z
LAST-MODIFIED:20190120T214247Z
UID:2352-1572786000-1572789600@aadesmoines.org
SUMMARY:PI/CPC Meeting
DESCRIPTION:In the Lutheran Hospital Cafeteria
URL:https://aadesmoines.org/event/pi-cpc-meeting-10/
LOCATION:Lutheran Hospital\, 700 E University Ave\, Des Moines\, IA\, 50316\, United States
CATEGORIES:Committee Meetings
END:VEVENT
BEGIN:VEVENT
DTSTART;TZID=America/Chicago:20191102T170000
DTEND;TZID=America/Chicago:20191102T200000
DTSTAMP:20260423T155153
CREATED:20190718T153014Z
LAST-MODIFIED:20190718T153303Z
UID:3078-1572714000-1572724800@aadesmoines.org
SUMMARY:Madison County AA & ALANON 43rd Anniversary
DESCRIPTION:Saturday – November 2nd 2019 \nSocial Hour 5pm – Eat at 6pm \nSpeakers:\nAA – Melissa T – Winterset\nALANON – Missy N – Des Moines \nJackson Building\nMadison County Fairgrounds\nWinterset\, IA \nMeat\, coffee and tableware provided. Please bring a covered dish or two to share. Pop\, water and raffle tickets for sale. \nSee attached flyer
URL:https://aadesmoines.org/event/madison-county-aa-alanon-43rd-anniversary/
LOCATION:Madison County Fairgrounds\, 1318 W Summit ST\, Winterset\, IA\, 50273\, United States
CATEGORIES:Anniversary,Meeting,Potluck/Picnic/BBQ
END:VEVENT
BEGIN:VEVENT
DTSTART;TZID=America/Chicago:20191101T170000
DTEND;TZID=America/Chicago:20191102T220000
DTSTAMP:20260423T155153
CREATED:20190730T032230Z
LAST-MODIFIED:20191003T204156Z
UID:3095-1572627600-1572732000@aadesmoines.org
SUMMARY:Capital City Conference 2019
DESCRIPTION:Capital City Conference\nNovember 1st & 2nd\, 2019\n\n\nStoney Creek Inn\n5291 Stoney Creek Court\nJohnston\, IA\nhttp://www.capitalcityconference.org/
URL:https://aadesmoines.org/event/capital-city-conference-2019/
LOCATION:Stoney Creek Inn\, 5291 Stoney Creek Court\, Johnston\, IA\, United States
CATEGORIES:Conference
END:VEVENT
BEGIN:VEVENT
DTSTART;TZID=America/Chicago:20191030T190000
DTEND;TZID=America/Chicago:20191030T210000
DTSTAMP:20260423T155153
CREATED:20190920T035158Z
LAST-MODIFIED:20190920T035329Z
UID:3228-1572462000-1572469200@aadesmoines.org
SUMMARY:Ames Downtowners 30th Anniversary
DESCRIPTION:Ames Downtowners 30th Anniversary\nWednesday\,10/30/2019\n7:00 p.m.\nFirst United Methodist Church\n\n516 Kellogg Ave.\nAmes\, IA\n\nSpeaker is Jill J. from Des Moines\, IA\nJoin us for Cake & Fellowship!\n\nUse NE Entrance\nDownstairs to the Right\nHandicap Entrance on the South Side\n\nsee attached flyer
URL:https://aadesmoines.org/event/ames-downtowners-30th-anniversary/
LOCATION:Ames First United Methodist Church\, 516 Kellog Ave\, Ames\, IA\, 50010\, United States
CATEGORIES:Anniversary,Meeting
END:VEVENT
BEGIN:VEVENT
DTSTART;TZID=America/Chicago:20191028T183000
DTEND;TZID=America/Chicago:20191028T210000
DTSTAMP:20260423T155153
CREATED:20191006T135648Z
LAST-MODIFIED:20191006T135648Z
UID:3271-1572287400-1572296400@aadesmoines.org
SUMMARY:Forest City Unity Group - Chip Night (October)
DESCRIPTION:Come join us for food fellowship and fun!\nForest City Unity Group\n135 East J Street\nForest City\, IA\nFor a Potluck\, speaker and chip night\nPlease bring a dish or desert to share and come hear\nDave C. from Ft Dodge\nshare his experience\, strength with us!\nOctober 28th\, 2019\nThe potluck starts at 6:30pm\nSpeaker and chip night start at 7:30pm\nsee attached flyer
URL:https://aadesmoines.org/event/forest-city-unity-group-chip-night-october/
LOCATION:Forest City Unity Group\, 135 East J St\, Forest City\, IA\, 50436\, United States
CATEGORIES:Meeting,Potluck/Picnic/BBQ
END:VEVENT
BEGIN:VEVENT
DTSTART;TZID=America/Chicago:20191027T120000
DTEND;TZID=America/Chicago:20191027T170000
DTSTAMP:20260423T155153
CREATED:20190521T023701Z
LAST-MODIFIED:20190614T013903Z
UID:2985-1572177600-1572195600@aadesmoines.org
SUMMARY:1st Annual Iowa Women's Luncheon
DESCRIPTION:The event will be held at the Airport Holiday Inn in Des Moines\, IA on October 27\, 2019. \n\nThere will be a lunch\, a raffle\, a 20 minute Al-Anon speaker and an AA speaker.\nDoors open at noon.\nWe will have online registration available as well as mail in registration.\n\nRegister Here \nIowa Women’s Luncheon Flyer 2019
URL:https://aadesmoines.org/event/1st-annual-iowa-womens-luncheon/
LOCATION:Holiday Inn Airport\, 6111 Fleur Dr\, Des Moines\, IA\, 50321\, United States
CATEGORIES:Conference,Meeting
END:VEVENT
BEGIN:VEVENT
DTSTART;TZID=America/Chicago:20191026T180000
DTEND;TZID=America/Chicago:20191027T003000
DTSTAMP:20260423T155153
CREATED:20190927T183346Z
LAST-MODIFIED:20190927T183346Z
UID:3255-1572112800-1572136200@aadesmoines.org
SUMMARY:Recovery Dance and Costume Party
DESCRIPTION:Recovery Dance and Costume Party\nCome dressed to impress \nSaturday October 26\, 2019\nAdmission: $5\nDoors open at 6pm\nFood at 7pm\nMusic 8pm-12:30am\nLocation: UAW Hall\, 2615 Washington ST\, Waterloo\, IA\nMain Dish: Turkey\n**Please bring a dish to share** \nsee attached flyer
URL:https://aadesmoines.org/event/recovery-dance-and-costume-party/
LOCATION:UAW Hall\, 2615 Washington St\, Waterloo\, IA\, 50702\, United States
CATEGORIES:Meeting
END:VEVENT
BEGIN:VEVENT
DTSTART;TZID=America/Chicago:20191026T173000
DTEND;TZID=America/Chicago:20191026T200000
DTSTAMP:20260423T155153
CREATED:20191012T131008Z
LAST-MODIFIED:20191012T131008Z
UID:3279-1572111000-1572120000@aadesmoines.org
SUMMARY:F&G Movie Night - October
DESCRIPTION:F & G Movie Night\nSaturday October 26\, 2019\n5:30 p.m.\nLeaving Las Vegas\nStarring: Nicolas Cage\nFree Popcorn\, Lemonade and Coffee\n\nsee attached flyer
URL:https://aadesmoines.org/event/fg-movie-night-october/
LOCATION:F&G\, 315 East 5th St\, Des Moines\, IA\, 50309\, United States
CATEGORIES:Group Event
END:VEVENT
BEGIN:VEVENT
DTSTART;TZID=America/Chicago:20191026T083000
DTEND;TZID=America/Chicago:20191026T110000
DTSTAMP:20260423T155153
CREATED:20190920T142116Z
LAST-MODIFIED:20190920T142223Z
UID:3233-1572078600-1572087600@aadesmoines.org
SUMMARY:Saturday Morning Men's Basic 11th Anniversary
DESCRIPTION:Saturday Morning Men’s Basics\n11th Anniversary Celebration\nSaturday\, October 26\, 2019\nWindsor United Methodist Church\n6222 University Ave\nWindsor Heights\, Iowa\nCake and Fellowship from 8:30am-9:15am\nFollowed by a history presentation.\nSpeaker at 9:30\nHistory: Kelly C.\nSpeaker: Jim S. from Minneapolis\nsee attached flyer
URL:https://aadesmoines.org/event/saturday-morning-mens-basic-11th-anniversary/
LOCATION:Windsor United Methodist Church\, 6222 University Ave\, Des Moines\, IA\, 50311\, United States
CATEGORIES:Anniversary,Meeting
END:VEVENT
END:VCALENDAR