BEGIN:VCALENDAR
VERSION:2.0
PRODID:-//AA Des Moines - ECPv6.15.20//NONSGML v1.0//EN
CALSCALE:GREGORIAN
METHOD:PUBLISH
X-WR-CALNAME:AA Des Moines
X-ORIGINAL-URL:https://aadesmoines.org
X-WR-CALDESC:Events for AA Des Moines
REFRESH-INTERVAL;VALUE=DURATION:PT1H
X-Robots-Tag:noindex
X-PUBLISHED-TTL:PT1H
BEGIN:VTIMEZONE
TZID:America/Chicago
BEGIN:DAYLIGHT
TZOFFSETFROM:-0600
TZOFFSETTO:-0500
TZNAME:CDT
DTSTART:20180311T080000
END:DAYLIGHT
BEGIN:STANDARD
TZOFFSETFROM:-0500
TZOFFSETTO:-0600
TZNAME:CST
DTSTART:20181104T070000
END:STANDARD
BEGIN:DAYLIGHT
TZOFFSETFROM:-0600
TZOFFSETTO:-0500
TZNAME:CDT
DTSTART:20190310T080000
END:DAYLIGHT
BEGIN:STANDARD
TZOFFSETFROM:-0500
TZOFFSETTO:-0600
TZNAME:CST
DTSTART:20191103T070000
END:STANDARD
BEGIN:DAYLIGHT
TZOFFSETFROM:-0600
TZOFFSETTO:-0500
TZNAME:CDT
DTSTART:20200308T080000
END:DAYLIGHT
BEGIN:STANDARD
TZOFFSETFROM:-0500
TZOFFSETTO:-0600
TZNAME:CST
DTSTART:20201101T070000
END:STANDARD
END:VTIMEZONE
BEGIN:VEVENT
DTSTART;TZID=America/Chicago:20190122T190000
DTEND;TZID=America/Chicago:20190122T200000
DTSTAMP:20260425T052559
CREATED:20190120T192358Z
LAST-MODIFIED:20190120T221640Z
UID:2258-1548183600-1548187200@aadesmoines.org
SUMMARY:Steps Month - Tuesday Night Big Book Discussion Group
DESCRIPTION:Steps 10\, 11\, 12 – Speaker Chris S. from Des Moines \nSteps Month Flyer
URL:https://aadesmoines.org/event/steps-month-tuesday-night-big-book-discussion-group/
LOCATION:Collegiate United Methodist Church\, 2622 Lincoln Way\, Ames\, IA\, 50014\, United States
CATEGORIES:Meeting
END:VEVENT
BEGIN:VEVENT
DTSTART;TZID=America/Chicago:20190121T180000
DTEND;TZID=America/Chicago:20190121T200000
DTSTAMP:20260425T052559
CREATED:20190120T060550Z
LAST-MODIFIED:20190120T220128Z
UID:2249-1548093600-1548100800@aadesmoines.org
SUMMARY:Huxley AA Group 2nd Anniversary
DESCRIPTION:Flyer
URL:https://aadesmoines.org/event/huxley-aa-group-2nd-anniversary/
LOCATION:Grace Free E Church\, 905 N 5th Ave\, Huxley\, IA\, 50128\, United States
CATEGORIES:Anniversary
END:VEVENT
BEGIN:VEVENT
DTSTART;TZID=America/Chicago:20190119T100000
DTEND;TZID=America/Chicago:20190120T110000
DTSTAMP:20260425T052559
CREATED:20190120T060550Z
LAST-MODIFIED:20190120T221029Z
UID:2248-1547892000-1547982000@aadesmoines.org
SUMMARY:Fort Dodge Winter Rally
DESCRIPTION:Annual Fort Dodge Winter Rally 2019 – $18 Preregistration\, $20 at the door \nFort Dodge Winter Rally 2019 Flyer \n 
URL:https://aadesmoines.org/event/winter-rally/
LOCATION:Starlite Village Best Western\, 1518 3rd Ave NW\, Fort Dodge\, IA\, 50501\, United States
CATEGORIES:Conference
END:VEVENT
BEGIN:VEVENT
DTSTART;TZID=America/Chicago:20190119T083000
DTEND;TZID=America/Chicago:20190120T120000
DTSTAMP:20260425T052559
CREATED:20190120T214244Z
LAST-MODIFIED:20190120T214244Z
UID:2340-1547886600-1547985600@aadesmoines.org
SUMMARY:Service Weekend
DESCRIPTION:Learn about Service as a GSR or at the District & Area levels
URL:https://aadesmoines.org/event/service-weekend/
LOCATION:Marshalltown Regency Best Western\, 3303 S Center ST\, Marshalltown\, IA\, 50158\, United States
CATEGORIES:Committee Meetings
END:VEVENT
END:VCALENDAR