BEGIN:VCALENDAR
VERSION:2.0
PRODID:-//AA Des Moines - ECPv6.15.20//NONSGML v1.0//EN
CALSCALE:GREGORIAN
METHOD:PUBLISH
X-WR-CALNAME:AA Des Moines
X-ORIGINAL-URL:https://aadesmoines.org
X-WR-CALDESC:Events for AA Des Moines
REFRESH-INTERVAL;VALUE=DURATION:PT1H
X-Robots-Tag:noindex
X-PUBLISHED-TTL:PT1H
BEGIN:VTIMEZONE
TZID:America/Chicago
BEGIN:DAYLIGHT
TZOFFSETFROM:-0600
TZOFFSETTO:-0500
TZNAME:CDT
DTSTART:20180311T080000
END:DAYLIGHT
BEGIN:STANDARD
TZOFFSETFROM:-0500
TZOFFSETTO:-0600
TZNAME:CST
DTSTART:20181104T070000
END:STANDARD
BEGIN:DAYLIGHT
TZOFFSETFROM:-0600
TZOFFSETTO:-0500
TZNAME:CDT
DTSTART:20190310T080000
END:DAYLIGHT
BEGIN:STANDARD
TZOFFSETFROM:-0500
TZOFFSETTO:-0600
TZNAME:CST
DTSTART:20191103T070000
END:STANDARD
BEGIN:DAYLIGHT
TZOFFSETFROM:-0600
TZOFFSETTO:-0500
TZNAME:CDT
DTSTART:20200308T080000
END:DAYLIGHT
BEGIN:STANDARD
TZOFFSETFROM:-0500
TZOFFSETTO:-0600
TZNAME:CST
DTSTART:20201101T070000
END:STANDARD
END:VTIMEZONE
BEGIN:VEVENT
DTSTART;TZID=America/Chicago:20190411T180000
DTEND;TZID=America/Chicago:20190411T190000
DTSTAMP:20260425T113249
CREATED:20190319T123919Z
LAST-MODIFIED:20190319T123919Z
UID:2812-1555005600-1555009200@aadesmoines.org
SUMMARY:Planning Meeting for Area 24 Spring Conference
DESCRIPTION:There will be planning meeting for the Area 24 Spring conference as we have additional details from District 8 on things they would like us to support. \nDate:  April 11\, 2018 \nTime:  6:00pm \nLocation:  St Paul’s Episcopal Church (corner of 6th & Grand) \nThe conference is being held June  7-9th at Grinnell College.  Anyone interested in volunteering for service work during the weekend of the Area 24 Spring conference is encouraged to attend. \nIf you are interested in volunteering but cannot attend the meeting you can email grinnellgroupaa@gmail.com  with name and dates you would be available.
URL:https://aadesmoines.org/event/planning-meeting-for-area-24-spring-conference/
LOCATION:St. Paul’s Episcopal Church\, 1026 State St\, Grinnell\, Iowa\, 50112\, United States
CATEGORIES:Committee Meetings
END:VEVENT
BEGIN:VEVENT
DTSTART;TZID=America/Chicago:20190407T190000
DTEND;TZID=America/Chicago:20190407T200000
DTSTAMP:20260425T113249
CREATED:20190120T192405Z
LAST-MODIFIED:20190319T171200Z
UID:2269-1554663600-1554667200@aadesmoines.org
SUMMARY:Dexter Step Study Group
DESCRIPTION:7:00 PM Speaker – Pete C \nDexter Step Study Speakers Flyer
URL:https://aadesmoines.org/event/dexter-step-study-group-3/
LOCATION:Dexter United Methodist Church\, 1008 Polk St\, Dexter\, IA\, 50070\, United States
CATEGORIES:Meeting
END:VEVENT
BEGIN:VEVENT
DTSTART;TZID=America/Chicago:20190407T180000
DTEND;TZID=America/Chicago:20190407T200000
DTSTAMP:20260425T113249
CREATED:20190319T035206Z
LAST-MODIFIED:20190417T131935Z
UID:2799-1554660000-1554667200@aadesmoines.org
SUMMARY:Crossroads 26th Anniversary
DESCRIPTION:CROSSROADS 26th Anniversary\nSt. Mary’s Catholic Church\n401 Ash Ave\nUrbana\, IA 52345\nWhen: April 7\nDinner at 6:00 P.M.\nHam Sandwiches\, Chips\, Baked Beans\,\nalong with assorted sides and desserts.\nSpeaker at 7:00 P.M.\nMike L. from Omaha\, NE\n\nCrossroads Anniversary Flyer
URL:https://aadesmoines.org/event/crossroads-26th-anniversary/
LOCATION:St. Mary’s Catholic Church\, 401 Ash Ave\, Urbana\, IA\, 52345\, United States
CATEGORIES:Anniversary
END:VEVENT
BEGIN:VEVENT
DTSTART;TZID=America/Chicago:20190407T130000
DTEND;TZID=America/Chicago:20190407T140000
DTSTAMP:20260425T113249
CREATED:20190120T214246Z
LAST-MODIFIED:20190120T214246Z
UID:2345-1554642000-1554645600@aadesmoines.org
SUMMARY:PI/CPC Meeting
DESCRIPTION:In the Lutheran Hospital Cafeteria
URL:https://aadesmoines.org/event/pi-cpc-meeting-3/
LOCATION:Lutheran Hospital\, 700 E University Ave\, Des Moines\, IA\, 50316\, United States
CATEGORIES:Committee Meetings
END:VEVENT
BEGIN:VEVENT
DTSTART;TZID=America/Chicago:20190406T180000
DTEND;TZID=America/Chicago:20190406T210000
DTSTAMP:20260425T113249
CREATED:20190328T222930Z
LAST-MODIFIED:20190328T222930Z
UID:2863-1554573600-1554584400@aadesmoines.org
SUMMARY:Bettendorf Group 50th Anniversary
DESCRIPTION:Saturday\, April 6th 2019 \n6pm Fellowship\n7pm Dinner\n8pm Speakers – Cissi L. and Bob H \nMeat and Drinks will be provided\, please bring a dish to share! \nBettendorf 50th Anniversary Flyer
URL:https://aadesmoines.org/event/bettendorf-group-50th-anniversary/
LOCATION:Bettendorf Community Center\, 2204 Grant St\, Bettendorf\, IA\, 52722\, United States
END:VEVENT
BEGIN:VEVENT
DTSTART;TZID=America/Chicago:20190406T170000
DTEND;TZID=America/Chicago:20190406T200000
DTSTAMP:20260425T113249
CREATED:20190120T192408Z
LAST-MODIFIED:20190218T152854Z
UID:2276-1554570000-1554580800@aadesmoines.org
SUMMARY:Saturday Night Southside Step Study Annual Potluck
DESCRIPTION:Meat & Coffee provided\, bring a covered dish to share. \nSaturday Night Step Study Group Annual Potluck Flyer
URL:https://aadesmoines.org/event/saturday-night-southside-step-study-annual-potluck/
LOCATION:Park Ave Christian Church\, 3301 SW 9th ST\, Des Moines\, IA\, 50315\, United States
CATEGORIES:Anniversary
END:VEVENT
BEGIN:VEVENT
DTSTART;TZID=America/Chicago:20190406T090000
DTEND;TZID=America/Chicago:20190406T133000
DTSTAMP:20260425T113249
CREATED:20190223T192149Z
LAST-MODIFIED:20190223T192222Z
UID:2672-1554541200-1554557400@aadesmoines.org
SUMMARY:5th Annual 4th Step Workshop
DESCRIPTION:9:00 am – Workshop starts\n9:00 am – Four Column Resentment List – Speakers – Glenn & Judy R.\, Ames\n10:30 am – Break\n10:45 am – Fears – Speaker – Jim R.\, Des Moines\n11:30 am – Lunch\n12:30 pm – Sexual Inventory – Speaker – Lisa L.\, Des Moines\n1:15 pm – Closing – Speaker – Aaron B.\nNOTE: $5.00 donation accepted but not required \n4th Step Workshop Flyer
URL:https://aadesmoines.org/event/5th-annual-4th-step-workshop/
LOCATION:Ankeny First United Methodist Church\, 710 NE 36th ST\, Ankeny\, IA\, 50021\, United States
CATEGORIES:Workshop
END:VEVENT
BEGIN:VEVENT
DTSTART;TZID=America/Chicago:20190405T190000
DTEND;TZID=America/Chicago:20190405T220000
DTSTAMP:20260425T113249
CREATED:20190327T231502Z
LAST-MODIFIED:20190327T231502Z
UID:2861-1554490800-1554501600@aadesmoines.org
SUMMARY:IAYPAA IV Trivia Night
DESCRIPTION:IAYPAA 4 Host Committee presents\nA Night of Trivia @\nThe Fellowship Club\n3224 1st Ave NE\nCedar Rapids\, IA\n4/5/2019\n7 pm – 10 pm\nTrivia  round 1 – 7 pm – 8 pm\nAA Speaker 8:15 – 8:30\nMason M. from Iowa City\nTrivia round 2 – 8:45 pm – 9:45 pm\n50/50 Rafle\n$5 suggested donation\nNo one will be turned away\nsee attached flyer\n\nIAYPAA Trivia Night Flyer
URL:https://aadesmoines.org/event/iaypaa-iv-trivia-night/
LOCATION:Fellowship Club\, 3224 1st Ave NE\, Cedar Rapids\, IA\, 52402\, United States
CATEGORIES:Conference Pre Event
END:VEVENT
BEGIN:VEVENT
DTSTART;TZID=America/Chicago:20190401T180000
DTEND;TZID=America/Chicago:20190401T200000
DTSTAMP:20260425T113249
CREATED:20190216T200857Z
LAST-MODIFIED:20190305T232813Z
UID:2636-1554141600-1554148800@aadesmoines.org
SUMMARY:3 Legacies 21st Anniversary Meeting
DESCRIPTION:Cake and Fellowship at 6pm\nSpeaker Meeting at 7pm (Vicki A-R from Ankeny\, IA) \nThere will only be one meeting this night\, and babysitting will be provided. \n3 Legacies Anniversary Flyer
URL:https://aadesmoines.org/event/3-legacies-21st-anniversary-meeting/
LOCATION:Grace Lutheran Church\, 3010 52nd ST\, Des Moines\, IA\, 50310\, United States
CATEGORIES:Anniversary
END:VEVENT
BEGIN:VEVENT
DTSTART;TZID=America/Chicago:20190329T200000
DTEND;TZID=America/Chicago:20190331T110000
DTSTAMP:20260425T113249
CREATED:20190120T192407Z
LAST-MODIFIED:20190303T175916Z
UID:2275-1553889600-1554030000@aadesmoines.org
SUMMARY:Aim For Ames
DESCRIPTION:Preregister by 3/18/2019 \nAim for Ames Flyer \nAim for Ames Round-Up Big Book Trivia Flyer
URL:https://aadesmoines.org/event/aim-for-ames/
LOCATION:Quality Inn & Suites\, 2601 E 13th ST\, Ames\, IA\, 50010\, United States
CATEGORIES:Conference
END:VEVENT
BEGIN:VEVENT
DTSTART;TZID=America/Chicago:20190329T063000
DTEND;TZID=America/Chicago:20190329T073000
DTSTAMP:20260425T113249
CREATED:20190223T191039Z
LAST-MODIFIED:20190305T232504Z
UID:2668-1553841000-1553844600@aadesmoines.org
SUMMARY:Ankeny AA Early Bird Meeting Potluck
DESCRIPTION:To Celebrate our 12th Anniversary\nSpeaker: Mike M\nPlease bring a dish to share \nEarly Bird Meeting Potluck Flyer
URL:https://aadesmoines.org/event/ankeny-aa-early-bird-meeting-potluck/
LOCATION:St. Anne’s Episcopal Church\, 2110 W 1st St\, Ankeny\, IA\, 50023\, United States
CATEGORIES:Meeting
END:VEVENT
BEGIN:VEVENT
DTSTART;TZID=America/Chicago:20190325T183000
DTEND;TZID=America/Chicago:20190325T203000
DTSTAMP:20260425T113249
CREATED:20190207T024305Z
LAST-MODIFIED:20190305T232450Z
UID:2606-1553538600-1553545800@aadesmoines.org
SUMMARY:Chip Night at the Forest City Unity Group
DESCRIPTION:Chip Night at the\nForest City Unity Group\n135 East J Street\nForest City\, IA 50436\n6:30 p.m. – Potluck\n7:30 p.m. – Speaker\nBecky A. of Fort Dodge \nForest City Chip Night Flyer
URL:https://aadesmoines.org/event/chip-night-at-the-forest-city-unity-group-2/
LOCATION:Forest City Unity Group\, 135 East J St\, Forest City\, IA\, 50436\, United States
CATEGORIES:Meeting
END:VEVENT
BEGIN:VEVENT
DTSTART;TZID=America/Chicago:20190323T090000
DTEND;TZID=America/Chicago:20190323T170000
DTSTAMP:20260425T113249
CREATED:20190313T155622Z
LAST-MODIFIED:20190313T155622Z
UID:2795-1553331600-1553360400@aadesmoines.org
SUMMARY:A Journey Through the Steps (Workshop)
DESCRIPTION:A Journey Through the Steps with Janet V – Seattle\, WA \nFellowship Club Main Auditorium\n3224 1st Ave NE\nCedar Rapids\, IA \nSuggested $10 donation for Saturday Workshop\nQuestions: Contact Ericka M @ 319-310-7791 \nA Journey Through the Steps Flyer
URL:https://aadesmoines.org/event/a-journey-through-the-steps-workshop/
LOCATION:Fellowship Club\, 3224 1st Ave NE\, Cedar Rapids\, IA\, 52402\, United States
CATEGORIES:Workshop
END:VEVENT
BEGIN:VEVENT
DTSTART;TZID=America/Chicago:20190322T190000
DTEND;TZID=America/Chicago:20190322T200000
DTSTAMP:20260425T113249
CREATED:20190313T155207Z
LAST-MODIFIED:20190319T035807Z
UID:2791-1553281200-1553284800@aadesmoines.org
SUMMARY:Full Measures Speaker Group 9th Anniversary
DESCRIPTION:Full Measures  Speaker Group\n9th Anniversary\nCedar Hills Community Church\n6455 E Ave NW\nCedar Rapids\, IA\n7 pm speaker is\nJanet V. from Seattle\, WA \nsee attached\n\n\n\n\n\n\n\nFull Measures 9th Anniversary Flyer
URL:https://aadesmoines.org/event/fmsg9anniversary/
LOCATION:Cedar Hills Community Church\, 6455 E Ave NW\, Cedar Rapids\, IA\, 52405\, United States
CATEGORIES:Anniversary
END:VEVENT
BEGIN:VEVENT
DTSTART;TZID=America/Chicago:20190320T180000
DTEND;TZID=America/Chicago:20190320T190000
DTSTAMP:20260425T113249
CREATED:20190120T214253Z
LAST-MODIFIED:20190120T214253Z
UID:2388-1553104800-1553108400@aadesmoines.org
SUMMARY:Treatment & Corrections Committee Meeting
DESCRIPTION:
URL:https://aadesmoines.org/event/treatment-corrections-committee-meeting-2/
LOCATION:White House\, 1400 Pennsylvania Ave\, Des Moines\, IA\, 50316\, United States
CATEGORIES:Committee Meetings
END:VEVENT
BEGIN:VEVENT
DTSTART;TZID=America/Chicago:20190318T180000
DTEND;TZID=America/Chicago:20190318T200000
DTSTAMP:20260425T113249
CREATED:20190216T195706Z
LAST-MODIFIED:20190305T232440Z
UID:2626-1552932000-1552939200@aadesmoines.org
SUMMARY:Mens' AA Stag Meeting 1st Anniversary
DESCRIPTION:6:00-6:30 PM – Cake\, Coffee & Fellowship\n6:30 PM Speaker – Joseph B. from Des Moines \nAll members of Alcoholics Anonymous (Male & Female) are welcome and encouraged to attend \nQuestions:\nTim – 515-520-7821 Tom D. – 515-322-0591 \nStag Meeting Anniversary Flyer
URL:https://aadesmoines.org/event/mens-aa-stag-meeting-1st-anniversary/
LOCATION:St. Andrew’s Episcopal Church\, 5720 Urbandale Ave\, Des Moines\, IA\, 50311\, United States
CATEGORIES:Anniversary
END:VEVENT
BEGIN:VEVENT
DTSTART;TZID=America/Chicago:20190316T090000
DTEND;TZID=America/Chicago:20190316T110000
DTSTAMP:20260425T113249
CREATED:20190207T022621Z
LAST-MODIFIED:20190305T232427Z
UID:2594-1552726800-1552734000@aadesmoines.org
SUMMARY:Newton Breakfast Speaker Meeting
DESCRIPTION:Breakfast Potluck speaker meeting\, bring a dish or two to share!! Table Service and drinks will be provided. \n9am Breakfast\n10am Speaker – Helen T (Newton\, IA) \nNewton Breakfast Speaker Meeting Flyer
URL:https://aadesmoines.org/event/newton-breakfast-speaker-meeting/
LOCATION:St. Stephen’s Episcopal Church\, 223 E 4th ST N\, Newton\, IA\, 50208\, United States
CATEGORIES:Meeting
END:VEVENT
BEGIN:VEVENT
DTSTART;TZID=America/Chicago:20190316T083000
DTEND;TZID=America/Chicago:20190317T120000
DTSTAMP:20260425T113249
CREATED:20190120T214245Z
LAST-MODIFIED:20190120T214245Z
UID:2341-1552725000-1552824000@aadesmoines.org
SUMMARY:Service Weekend
DESCRIPTION:Learn about Service as a GSR or at the District & Area levels
URL:https://aadesmoines.org/event/service-weekend-2/
LOCATION:Marshalltown Regency Best Western\, 3303 S Center ST\, Marshalltown\, IA\, 50158\, United States
CATEGORIES:Committee Meetings
END:VEVENT
BEGIN:VEVENT
DTSTART;TZID=America/Chicago:20190314T183000
DTEND;TZID=America/Chicago:20190314T210000
DTSTAMP:20260425T113249
CREATED:20190309T032930Z
LAST-MODIFIED:20190309T032930Z
UID:2770-1552588200-1552597200@aadesmoines.org
SUMMARY:Foxhall Group Anniversary
DESCRIPTION:Des Moines Foxhall Group Anniversary \n \n 
URL:https://aadesmoines.org/event/foxhall-group-anniversary/
LOCATION:First United Methodist Church\, 1001 Pleasant St\, Des Moines\, IA\, 50309\, United States
CATEGORIES:Anniversary
END:VEVENT
BEGIN:VEVENT
DTSTART;TZID=America/Chicago:20190310T150000
DTEND;TZID=America/Chicago:20190310T160000
DTSTAMP:20260425T113249
CREATED:20190120T214252Z
LAST-MODIFIED:20190120T214252Z
UID:2377-1552230000-1552233600@aadesmoines.org
SUMMARY:District 7 Meeting
DESCRIPTION:
URL:https://aadesmoines.org/event/district-7-meeting-2/
LOCATION:White House\, 1400 Pennsylvania Ave\, Des Moines\, IA\, 50316\, United States
CATEGORIES:Committee Meetings
END:VEVENT
BEGIN:VEVENT
DTSTART;TZID=America/Chicago:20190310T130000
DTEND;TZID=America/Chicago:20190310T140000
DTSTAMP:20260425T113249
CREATED:20190120T214250Z
LAST-MODIFIED:20190120T214250Z
UID:2366-1552222800-1552226400@aadesmoines.org
SUMMARY:Intergroup Meeting
DESCRIPTION:
URL:https://aadesmoines.org/event/intergroup-meeting-2/
LOCATION:Central Office\, 1620 Pleasant ST Suite 228\, Des Moines\, IA\, 50314\, United States
CATEGORIES:Committee Meetings
END:VEVENT
BEGIN:VEVENT
DTSTART;TZID=America/Chicago:20190310T110000
DTEND;TZID=America/Chicago:20190310T120000
DTSTAMP:20260425T113249
CREATED:20190120T214248Z
LAST-MODIFIED:20190120T214248Z
UID:2355-1552215600-1552219200@aadesmoines.org
SUMMARY:Intergroup Banquet Committee Meeting
DESCRIPTION:For the annual Intergroup Banquet
URL:https://aadesmoines.org/event/intergroup-banquet-committee-meeting-2/
LOCATION:Central Office\, 1620 Pleasant ST Suite 228\, Des Moines\, IA\, 50314\, United States
CATEGORIES:Committee Meetings
END:VEVENT
BEGIN:VEVENT
DTSTART;TZID=America/Chicago:20190310T080000
DTEND;TZID=America/Chicago:20190310T100000
DTSTAMP:20260425T113249
CREATED:20190120T192405Z
LAST-MODIFIED:20190120T195322Z
UID:2270-1552204800-1552212000@aadesmoines.org
SUMMARY:Amana Speaker Meeting - 2nd Sunday
DESCRIPTION:8:00 AM Breakfast\, 9:00 AM Speaker Troy F from Cedar Rapids
URL:https://aadesmoines.org/event/amana-speaker-meeting-2nd-sunday/
LOCATION:Ronneburg Restaurant\, 4408 220th Trail\, Amana\, IA\, 52203\, United States
CATEGORIES:Meeting
END:VEVENT
BEGIN:VEVENT
DTSTART;TZID=America/Chicago:20190303T190000
DTEND;TZID=America/Chicago:20190303T200000
DTSTAMP:20260425T113249
CREATED:20190120T192405Z
LAST-MODIFIED:20190319T171139Z
UID:2268-1551639600-1551643200@aadesmoines.org
SUMMARY:Dexter Step Study Group
DESCRIPTION:7:00 PM Speaker – Mike A \nDexter Step Study Speaker Flyer
URL:https://aadesmoines.org/event/dexter-step-study-group-2/
LOCATION:Dexter United Methodist Church\, 1008 Polk St\, Dexter\, IA\, 50070\, United States
CATEGORIES:Meeting
END:VEVENT
BEGIN:VEVENT
DTSTART;TZID=America/Chicago:20190303T130000
DTEND;TZID=America/Chicago:20190303T140000
DTSTAMP:20260425T113249
CREATED:20190120T214245Z
LAST-MODIFIED:20190120T214245Z
UID:2344-1551618000-1551621600@aadesmoines.org
SUMMARY:PI/CPC Meeting
DESCRIPTION:In the Lutheran Hospital Cafeteria
URL:https://aadesmoines.org/event/pi-cpc-meeting-2/
LOCATION:Lutheran Hospital\, 700 E University Ave\, Des Moines\, IA\, 50316\, United States
CATEGORIES:Committee Meetings
END:VEVENT
BEGIN:VEVENT
DTSTART;TZID=America/Chicago:20190301T170000
DTEND;TZID=America/Chicago:20190303T110000
DTSTAMP:20260425T113249
CREATED:20190120T192407Z
LAST-MODIFIED:20190120T221230Z
UID:2274-1551459600-1551610800@aadesmoines.org
SUMMARY:Sioux City Tri State Roundup
DESCRIPTION:Pregistration must be received by 2/1/2019 \nSioux City Tri State Roundup Flyer
URL:https://aadesmoines.org/event/sioux-city-tri-state-roundup/
LOCATION:Hilton Garden Inn\, 1132 Larsen Park\, Sioux City\, IA\, 51103\, United States
CATEGORIES:Conference
END:VEVENT
BEGIN:VEVENT
DTSTART;TZID=America/Chicago:20190225T183000
DTEND;TZID=America/Chicago:20190225T203000
DTSTAMP:20260425T113249
CREATED:20190207T024118Z
LAST-MODIFIED:20190305T232421Z
UID:2603-1551119400-1551126600@aadesmoines.org
SUMMARY:Chip Night at the Forest City Unity Group
DESCRIPTION:Chip Night at the\nForest City Unity Group\n135 East J Street\nForest City\, IA 50436\n6:30 p.m. – Potluck\n7:30 p.m. – Speaker\nMike S. of Forest City \nForest City Chip Night
URL:https://aadesmoines.org/event/chip-night-at-the-forest-city-unity-group/
LOCATION:Forest City Unity Group\, 135 East J St\, Forest City\, IA\, 50436\, United States
CATEGORIES:Meeting
END:VEVENT
BEGIN:VEVENT
DTSTART;TZID=America/Chicago:20190225T180000
DTEND;TZID=America/Chicago:20190225T210000
DTSTAMP:20260425T113249
CREATED:20190122T023009Z
LAST-MODIFIED:20190122T023321Z
UID:2472-1551117600-1551128400@aadesmoines.org
SUMMARY:3 Legacies Steps Month
DESCRIPTION:Steps 10\, 11\, 12 – 6pm Eric S\nSteps 10\, 11\, 12 – 8pm Susie J \n3 Legacies Steps Month Flyer
URL:https://aadesmoines.org/event/3-legacies-steps-month-4/
LOCATION:Grace Lutheran Church\, 3010 52nd ST\, Des Moines\, IA\, 50310\, United States
CATEGORIES:Meeting
END:VEVENT
BEGIN:VEVENT
DTSTART;TZID=America/Chicago:20190224T130000
DTEND;TZID=America/Chicago:20190224T160000
DTSTAMP:20260425T113249
CREATED:20190207T021506Z
LAST-MODIFIED:20190305T232410Z
UID:2590-1551013200-1551024000@aadesmoines.org
SUMMARY:Sandy E 35th Birthday Celebration
DESCRIPTION:Kim S Speaking at 2pm\nCake and Beverages will be served\nQuestions? – Contact Catherine at 515-735-8029 \nSandy E Birthday Celebration Flyer
URL:https://aadesmoines.org/event/sandy-e-35th-birthday-celebration/
LOCATION:McCormick Clubhouse\, 1201 McCormick Ave\, Ames\, IA\, 50010\, United States
CATEGORIES:Meeting
END:VEVENT
BEGIN:VEVENT
DTSTART;TZID=America/Chicago:20190223T080000
DTEND;TZID=America/Chicago:20190223T150000
DTSTAMP:20260425T113249
CREATED:20190120T192407Z
LAST-MODIFIED:20190120T222450Z
UID:2273-1550908800-1550934000@aadesmoines.org
SUMMARY:20th Annual Deal 3rd Step Workshop
DESCRIPTION:Breakfast 8:00 AM\, Workshop starts at 9:00 AM – $10 Suggested Donation \nDeal 3rd Step Workshop Flyer
URL:https://aadesmoines.org/event/20th-annual-deal-3rd-step-workshop/
LOCATION:White House\, 1400 Pennsylvania Ave\, Des Moines\, IA\, 50316\, United States
CATEGORIES:Workshop
END:VEVENT
END:VCALENDAR