BEGIN:VCALENDAR
VERSION:2.0
PRODID:-//AA Des Moines - ECPv6.15.20//NONSGML v1.0//EN
CALSCALE:GREGORIAN
METHOD:PUBLISH
X-ORIGINAL-URL:https://aadesmoines.org
X-WR-CALDESC:Events for AA Des Moines
REFRESH-INTERVAL;VALUE=DURATION:PT1H
X-Robots-Tag:noindex
X-PUBLISHED-TTL:PT1H
BEGIN:VTIMEZONE
TZID:America/Chicago
BEGIN:DAYLIGHT
TZOFFSETFROM:-0600
TZOFFSETTO:-0500
TZNAME:CDT
DTSTART:20250309T080000
END:DAYLIGHT
BEGIN:STANDARD
TZOFFSETFROM:-0500
TZOFFSETTO:-0600
TZNAME:CST
DTSTART:20251102T070000
END:STANDARD
BEGIN:DAYLIGHT
TZOFFSETFROM:-0600
TZOFFSETTO:-0500
TZNAME:CDT
DTSTART:20260308T080000
END:DAYLIGHT
BEGIN:STANDARD
TZOFFSETFROM:-0500
TZOFFSETTO:-0600
TZNAME:CST
DTSTART:20261101T070000
END:STANDARD
BEGIN:DAYLIGHT
TZOFFSETFROM:-0600
TZOFFSETTO:-0500
TZNAME:CDT
DTSTART:20270314T080000
END:DAYLIGHT
BEGIN:STANDARD
TZOFFSETFROM:-0500
TZOFFSETTO:-0600
TZNAME:CST
DTSTART:20271107T070000
END:STANDARD
BEGIN:DAYLIGHT
TZOFFSETFROM:-0600
TZOFFSETTO:-0500
TZNAME:CDT
DTSTART:20280312T080000
END:DAYLIGHT
BEGIN:STANDARD
TZOFFSETFROM:-0500
TZOFFSETTO:-0600
TZNAME:CST
DTSTART:20281105T070000
END:STANDARD
END:VTIMEZONE
BEGIN:VEVENT
DTSTART;TZID=America/Chicago:20260906T130000
DTEND;TZID=America/Chicago:20260906T140000
DTSTAMP:20260423T062205
CREATED:20260124T203225Z
LAST-MODIFIED:20260124T203225Z
UID:262177-1788699600-1788703200@aadesmoines.org
SUMMARY:PI/CPC Monthly Meeting 
DESCRIPTION:The Whitehouse\n1st Sunday of the Month at 1pm
URL:https://aadesmoines.org/event/pi-cpc-monthly-meeting-12/
END:VEVENT
BEGIN:VEVENT
DTSTART;TZID=America/Chicago:20260916T180000
DTEND;TZID=America/Chicago:20260916T190000
DTSTAMP:20260423T062205
CREATED:20260124T210801Z
LAST-MODIFIED:20260124T210801Z
UID:262199-1789581600-1789585200@aadesmoines.org
SUMMARY:Treatment and Corrections
DESCRIPTION:The Whitehouse\n3rd Wednesday of the month at 6pm
URL:https://aadesmoines.org/event/treatment-and-corrections-11/
END:VEVENT
BEGIN:VEVENT
DTSTART;TZID=America/Chicago:20261004T130000
DTEND;TZID=America/Chicago:20261004T140000
DTSTAMP:20260423T062205
CREATED:20260124T203351Z
LAST-MODIFIED:20260124T203351Z
UID:262179-1791118800-1791122400@aadesmoines.org
SUMMARY:PI/CPC Monthly Meeting 
DESCRIPTION:The Whitehouse\n1st Sunday of the Month at 1pm
URL:https://aadesmoines.org/event/pi-cpc-monthly-meeting-13/
END:VEVENT
BEGIN:VEVENT
DTSTART;TZID=America/Chicago:20261021T180000
DTEND;TZID=America/Chicago:20261021T190000
DTSTAMP:20260423T062205
CREATED:20260124T210858Z
LAST-MODIFIED:20260124T210858Z
UID:262201-1792605600-1792609200@aadesmoines.org
SUMMARY:Treatment and Corrections
DESCRIPTION:The Whitehouse\n3rd Wednesday of the month at 6pm
URL:https://aadesmoines.org/event/treatment-and-corrections-12/
END:VEVENT
BEGIN:VEVENT
DTSTART;TZID=America/Chicago:20261101T130000
DTEND;TZID=America/Chicago:20261101T140000
DTSTAMP:20260423T062205
CREATED:20260124T203807Z
LAST-MODIFIED:20260124T203807Z
UID:262181-1793538000-1793541600@aadesmoines.org
SUMMARY:PI/CPC Monthly Meeting 
DESCRIPTION:The Whitehouse\n1st Sunday of the Month at 1pm
URL:https://aadesmoines.org/event/pi-cpc-monthly-meeting-14/
END:VEVENT
BEGIN:VEVENT
DTSTART;TZID=America/Chicago:20261118T180000
DTEND;TZID=America/Chicago:20261118T190000
DTSTAMP:20260423T062205
CREATED:20260124T210953Z
LAST-MODIFIED:20260124T210953Z
UID:262203-1795024800-1795028400@aadesmoines.org
SUMMARY:Treatment and Corrections
DESCRIPTION:The Whitehouse\n3rd Wednesday of the month at 6pm
URL:https://aadesmoines.org/event/treatment-and-corrections-13/
END:VEVENT
BEGIN:VEVENT
DTSTART;TZID=America/Chicago:20261206T130000
DTEND;TZID=America/Chicago:20261206T140000
DTSTAMP:20260423T062205
CREATED:20260124T203916Z
LAST-MODIFIED:20260124T203916Z
UID:262183-1796562000-1796565600@aadesmoines.org
SUMMARY:PI/CPC Monthly Meeting
DESCRIPTION:The Whitehouse\n1st Sunday of the Month at 1pm
URL:https://aadesmoines.org/event/pi-cpc-monthly-meeting-15/
END:VEVENT
BEGIN:VEVENT
DTSTART;TZID=America/Chicago:20261216T180000
DTEND;TZID=America/Chicago:20261216T190000
DTSTAMP:20260423T062205
CREATED:20260124T211105Z
LAST-MODIFIED:20260124T211105Z
UID:262205-1797444000-1797447600@aadesmoines.org
SUMMARY:Treatment and Corrections
DESCRIPTION:The Whitehouse\n3rd Wednesday of the month at 6pm
URL:https://aadesmoines.org/event/treatment-and-corrections-14/
END:VEVENT
BEGIN:VEVENT
DTSTART;TZID=America/Chicago:20270103T130000
DTEND;TZID=America/Chicago:20270103T140000
DTSTAMP:20260423T062205
CREATED:20260124T211526Z
LAST-MODIFIED:20260124T211526Z
UID:262209-1798981200-1798984800@aadesmoines.org
SUMMARY:PI/CPC Monthly Meeting 
DESCRIPTION:The Whitehouse\n1st Sunday of the Month at 1pm
URL:https://aadesmoines.org/event/pi-cpc-monthly-meeting-16/
END:VEVENT
BEGIN:VEVENT
DTSTART;TZID=America/Chicago:20270120T180000
DTEND;TZID=America/Chicago:20270120T190000
DTSTAMP:20260423T062205
CREATED:20260124T211424Z
LAST-MODIFIED:20260124T211424Z
UID:262207-1800468000-1800471600@aadesmoines.org
SUMMARY:Treatment and Corrections
DESCRIPTION:The Whitehouse\n3rd Wednesday of the month at 6pm
URL:https://aadesmoines.org/event/treatment-and-corrections-15/
END:VEVENT
END:VCALENDAR