BEGIN:VCALENDAR
VERSION:2.0
PRODID:-//AA Des Moines - ECPv6.15.20//NONSGML v1.0//EN
CALSCALE:GREGORIAN
METHOD:PUBLISH
X-WR-CALNAME:AA Des Moines
X-ORIGINAL-URL:https://aadesmoines.org
X-WR-CALDESC:Events for AA Des Moines
REFRESH-INTERVAL;VALUE=DURATION:PT1H
X-Robots-Tag:noindex
X-PUBLISHED-TTL:PT1H
BEGIN:VTIMEZONE
TZID:America/Chicago
BEGIN:DAYLIGHT
TZOFFSETFROM:-0600
TZOFFSETTO:-0500
TZNAME:CDT
DTSTART:20190310T080000
END:DAYLIGHT
BEGIN:STANDARD
TZOFFSETFROM:-0500
TZOFFSETTO:-0600
TZNAME:CST
DTSTART:20191103T070000
END:STANDARD
BEGIN:DAYLIGHT
TZOFFSETFROM:-0600
TZOFFSETTO:-0500
TZNAME:CDT
DTSTART:20200308T080000
END:DAYLIGHT
BEGIN:STANDARD
TZOFFSETFROM:-0500
TZOFFSETTO:-0600
TZNAME:CST
DTSTART:20201101T070000
END:STANDARD
BEGIN:DAYLIGHT
TZOFFSETFROM:-0600
TZOFFSETTO:-0500
TZNAME:CDT
DTSTART:20210314T080000
END:DAYLIGHT
BEGIN:STANDARD
TZOFFSETFROM:-0500
TZOFFSETTO:-0600
TZNAME:CST
DTSTART:20211107T070000
END:STANDARD
BEGIN:DAYLIGHT
TZOFFSETFROM:-0600
TZOFFSETTO:-0500
TZNAME:CDT
DTSTART:20220313T080000
END:DAYLIGHT
BEGIN:STANDARD
TZOFFSETFROM:-0500
TZOFFSETTO:-0600
TZNAME:CST
DTSTART:20221106T070000
END:STANDARD
BEGIN:DAYLIGHT
TZOFFSETFROM:-0600
TZOFFSETTO:-0500
TZNAME:CDT
DTSTART:20230312T080000
END:DAYLIGHT
BEGIN:STANDARD
TZOFFSETFROM:-0500
TZOFFSETTO:-0600
TZNAME:CST
DTSTART:20231105T070000
END:STANDARD
BEGIN:DAYLIGHT
TZOFFSETFROM:-0600
TZOFFSETTO:-0500
TZNAME:CDT
DTSTART:20240310T080000
END:DAYLIGHT
BEGIN:STANDARD
TZOFFSETFROM:-0500
TZOFFSETTO:-0600
TZNAME:CST
DTSTART:20241103T070000
END:STANDARD
BEGIN:DAYLIGHT
TZOFFSETFROM:-0600
TZOFFSETTO:-0500
TZNAME:CDT
DTSTART:20250309T080000
END:DAYLIGHT
BEGIN:STANDARD
TZOFFSETFROM:-0500
TZOFFSETTO:-0600
TZNAME:CST
DTSTART:20251102T070000
END:STANDARD
BEGIN:DAYLIGHT
TZOFFSETFROM:-0600
TZOFFSETTO:-0500
TZNAME:CDT
DTSTART:20260308T080000
END:DAYLIGHT
BEGIN:STANDARD
TZOFFSETFROM:-0500
TZOFFSETTO:-0600
TZNAME:CST
DTSTART:20261101T070000
END:STANDARD
END:VTIMEZONE
BEGIN:VEVENT
DTSTART;TZID=America/Chicago:20250112T150000
DTEND;TZID=America/Chicago:20250112T160000
DTSTAMP:20260423T052048
CREATED:20190120T214253Z
LAST-MODIFIED:20190120T214253Z
UID:250144-1736694000-1736697600@aadesmoines.org
SUMMARY:District 7 Meeting
DESCRIPTION:Topic: District 7 Business Meeting\nTime: 3-4 pm\nDate: 2nd Sunday of the month\nPlace: White House
URL:https://aadesmoines.org/event/district-7-meeting-11-2020-06-14-2025-01-12/
LOCATION:White House\, 1400 Pennsylvania Ave\, Des Moines\, IA\, 50316\, United States
CATEGORIES:Committee Meetings
END:VEVENT
BEGIN:VEVENT
DTSTART;TZID=America/Chicago:20241208T150000
DTEND;TZID=America/Chicago:20241208T160000
DTSTAMP:20260423T052048
CREATED:20190120T214253Z
LAST-MODIFIED:20190120T214253Z
UID:248732-1733670000-1733673600@aadesmoines.org
SUMMARY:District 7 Meeting
DESCRIPTION:Topic: District 7 Business Meeting\nTime: 3-4 pm\nDate: 2nd Sunday of the month\nPlace: White House
URL:https://aadesmoines.org/event/district-7-meeting-11-2020-06-14-2024-12-08/
LOCATION:White House\, 1400 Pennsylvania Ave\, Des Moines\, IA\, 50316\, United States
CATEGORIES:Committee Meetings
END:VEVENT
BEGIN:VEVENT
DTSTART;TZID=America/Chicago:20241110T150000
DTEND;TZID=America/Chicago:20241110T160000
DTSTAMP:20260423T052048
CREATED:20190120T214253Z
LAST-MODIFIED:20190120T214253Z
UID:244587-1731250800-1731254400@aadesmoines.org
SUMMARY:District 7 Meeting
DESCRIPTION:Topic: District 7 Business Meeting\nTime: 3-4 pm\nDate: 2nd Sunday of the month\nPlace: White House
URL:https://aadesmoines.org/event/district-7-meeting-11-2020-06-14-2024-11-10/
LOCATION:White House\, 1400 Pennsylvania Ave\, Des Moines\, IA\, 50316\, United States
CATEGORIES:Committee Meetings
END:VEVENT
BEGIN:VEVENT
DTSTART;TZID=America/Chicago:20241013T150000
DTEND;TZID=America/Chicago:20241013T160000
DTSTAMP:20260423T052048
CREATED:20190120T214253Z
LAST-MODIFIED:20190120T214253Z
UID:241830-1728831600-1728835200@aadesmoines.org
SUMMARY:District 7 Meeting
DESCRIPTION:Topic: District 7 Business Meeting\nTime: 3-4 pm\nDate: 2nd Sunday of the month\nPlace: White House
URL:https://aadesmoines.org/event/district-7-meeting-11-2020-06-14-2024-10-13/
LOCATION:White House\, 1400 Pennsylvania Ave\, Des Moines\, IA\, 50316\, United States
CATEGORIES:Committee Meetings
END:VEVENT
BEGIN:VEVENT
DTSTART;TZID=America/Chicago:20240908T150000
DTEND;TZID=America/Chicago:20240908T160000
DTSTAMP:20260423T052048
CREATED:20190120T214253Z
LAST-MODIFIED:20190120T214253Z
UID:238170-1725807600-1725811200@aadesmoines.org
SUMMARY:District 7 Meeting
DESCRIPTION:Topic: District 7 Business Meeting\nTime: 3-4 pm\nDate: 2nd Sunday of the month\nPlace: White House
URL:https://aadesmoines.org/event/district-7-meeting-11-2020-06-14-2024-09-08/
LOCATION:White House\, 1400 Pennsylvania Ave\, Des Moines\, IA\, 50316\, United States
CATEGORIES:Committee Meetings
END:VEVENT
BEGIN:VEVENT
DTSTART;TZID=America/Chicago:20240811T150000
DTEND;TZID=America/Chicago:20240811T160000
DTSTAMP:20260423T052048
CREATED:20190120T214253Z
LAST-MODIFIED:20190120T214253Z
UID:235868-1723388400-1723392000@aadesmoines.org
SUMMARY:District 7 Meeting
DESCRIPTION:Topic: District 7 Business Meeting\nTime: 3-4 pm\nDate: 2nd Sunday of the month\nPlace: White House
URL:https://aadesmoines.org/event/district-7-meeting-11-2020-06-14-2024-08-11/
LOCATION:White House\, 1400 Pennsylvania Ave\, Des Moines\, IA\, 50316\, United States
CATEGORIES:Committee Meetings
END:VEVENT
BEGIN:VEVENT
DTSTART;TZID=America/Chicago:20240714T150000
DTEND;TZID=America/Chicago:20240714T160000
DTSTAMP:20260423T052048
CREATED:20190120T214253Z
LAST-MODIFIED:20190120T214253Z
UID:233126-1720969200-1720972800@aadesmoines.org
SUMMARY:District 7 Meeting
DESCRIPTION:Topic: District 7 Business Meeting\nTime: 3-4 pm\nDate: 2nd Sunday of the month\nPlace: White House
URL:https://aadesmoines.org/event/district-7-meeting-11-2020-06-14-2024-07-14/
LOCATION:White House\, 1400 Pennsylvania Ave\, Des Moines\, IA\, 50316\, United States
CATEGORIES:Committee Meetings
END:VEVENT
BEGIN:VEVENT
DTSTART;TZID=America/Chicago:20240609T150000
DTEND;TZID=America/Chicago:20240609T160000
DTSTAMP:20260423T052048
CREATED:20190120T214253Z
LAST-MODIFIED:20190120T214253Z
UID:231297-1717945200-1717948800@aadesmoines.org
SUMMARY:District 7 Meeting
DESCRIPTION:Topic: District 7 Business Meeting\nTime: 3-4 pm\nDate: 2nd Sunday of the month\nPlace: White House
URL:https://aadesmoines.org/event/district-7-meeting-11-2020-06-14-2024-06-09/
LOCATION:White House\, 1400 Pennsylvania Ave\, Des Moines\, IA\, 50316\, United States
CATEGORIES:Committee Meetings
END:VEVENT
BEGIN:VEVENT
DTSTART;TZID=America/Chicago:20240512T150000
DTEND;TZID=America/Chicago:20240512T160000
DTSTAMP:20260423T052048
CREATED:20190120T214253Z
LAST-MODIFIED:20190120T214253Z
UID:228540-1715526000-1715529600@aadesmoines.org
SUMMARY:District 7 Meeting
DESCRIPTION:Topic: District 7 Business Meeting\nTime: 3-4 pm\nDate: 2nd Sunday of the month\nPlace: White House
URL:https://aadesmoines.org/event/district-7-meeting-11-2020-06-14-2024-05-12/
LOCATION:White House\, 1400 Pennsylvania Ave\, Des Moines\, IA\, 50316\, United States
CATEGORIES:Committee Meetings
END:VEVENT
BEGIN:VEVENT
DTSTART;TZID=America/Chicago:20211114T130000
DTEND;TZID=America/Chicago:20211114T140000
DTSTAMP:20260423T052048
CREATED:20190120T214251Z
LAST-MODIFIED:20190120T214251Z
UID:4673-1636894800-1636898400@aadesmoines.org
SUMMARY:Intergroup Meeting
DESCRIPTION:
URL:https://aadesmoines.org/event/intergroup-meeting-11-2021-11-14/
LOCATION:Central Office\, 1620 Pleasant ST Suite 228\, Des Moines\, IA\, 50314\, United States
CATEGORIES:Committee Meetings
END:VEVENT
BEGIN:VEVENT
DTSTART;TZID=America/Chicago:20211114T110000
DTEND;TZID=America/Chicago:20211114T120000
DTSTAMP:20260423T052048
CREATED:20190120T214249Z
LAST-MODIFIED:20200202T154655Z
UID:4649-1636887600-1636891200@aadesmoines.org
SUMMARY:Intergroup Banquet Committee Meeting
DESCRIPTION:For the annual Intergroup Banquet
URL:https://aadesmoines.org/event/intergroup-banquet-committee-meeting-11-2021-11-14/
LOCATION:Central Office\, 1620 Pleasant ST Suite 228\, Des Moines\, IA\, 50314\, United States
CATEGORIES:Committee Meetings
END:VEVENT
BEGIN:VEVENT
DTSTART;TZID=America/Chicago:20211010T130000
DTEND;TZID=America/Chicago:20211010T140000
DTSTAMP:20260423T052048
CREATED:20190120T214251Z
LAST-MODIFIED:20190120T214251Z
UID:4672-1633870800-1633874400@aadesmoines.org
SUMMARY:Intergroup Meeting
DESCRIPTION:
URL:https://aadesmoines.org/event/intergroup-meeting-11-2021-10-10/
LOCATION:Central Office\, 1620 Pleasant ST Suite 228\, Des Moines\, IA\, 50314\, United States
CATEGORIES:Committee Meetings
END:VEVENT
BEGIN:VEVENT
DTSTART;TZID=America/Chicago:20211010T110000
DTEND;TZID=America/Chicago:20211010T120000
DTSTAMP:20260423T052048
CREATED:20190120T214249Z
LAST-MODIFIED:20190120T214249Z
UID:4648-1633863600-1633867200@aadesmoines.org
SUMMARY:Intergroup Banquet Committee Meeting
DESCRIPTION:For the annual Intergroup Banquet
URL:https://aadesmoines.org/event/intergroup-banquet-committee-meeting-11-2021-10-10/
LOCATION:Central Office\, 1620 Pleasant ST Suite 228\, Des Moines\, IA\, 50314\, United States
CATEGORIES:Committee Meetings
END:VEVENT
BEGIN:VEVENT
DTSTART;TZID=America/Chicago:20210912T130000
DTEND;TZID=America/Chicago:20210912T140000
DTSTAMP:20260423T052048
CREATED:20190120T214251Z
LAST-MODIFIED:20190120T214251Z
UID:4671-1631451600-1631455200@aadesmoines.org
SUMMARY:Intergroup Meeting
DESCRIPTION:
URL:https://aadesmoines.org/event/intergroup-meeting-11-2021-09-12/
LOCATION:Central Office\, 1620 Pleasant ST Suite 228\, Des Moines\, IA\, 50314\, United States
CATEGORIES:Committee Meetings
END:VEVENT
BEGIN:VEVENT
DTSTART;TZID=America/Chicago:20210912T110000
DTEND;TZID=America/Chicago:20210912T120000
DTSTAMP:20260423T052048
CREATED:20190120T214249Z
LAST-MODIFIED:20190120T214249Z
UID:4647-1631444400-1631448000@aadesmoines.org
SUMMARY:Intergroup Banquet Committee Meeting
DESCRIPTION:For the annual Intergroup Banquet
URL:https://aadesmoines.org/event/intergroup-banquet-committee-meeting-11-2021-09-12/
LOCATION:Central Office\, 1620 Pleasant ST Suite 228\, Des Moines\, IA\, 50314\, United States
CATEGORIES:Committee Meetings
END:VEVENT
BEGIN:VEVENT
DTSTART;TZID=America/Chicago:20210808T130000
DTEND;TZID=America/Chicago:20210808T140000
DTSTAMP:20260423T052048
CREATED:20190120T214251Z
LAST-MODIFIED:20190120T214251Z
UID:4670-1628427600-1628431200@aadesmoines.org
SUMMARY:Intergroup Meeting
DESCRIPTION:
URL:https://aadesmoines.org/event/intergroup-meeting-11-2021-08-08/
LOCATION:Central Office\, 1620 Pleasant ST Suite 228\, Des Moines\, IA\, 50314\, United States
CATEGORIES:Committee Meetings
END:VEVENT
BEGIN:VEVENT
DTSTART;TZID=America/Chicago:20210808T110000
DTEND;TZID=America/Chicago:20210808T120000
DTSTAMP:20260423T052048
CREATED:20190120T214249Z
LAST-MODIFIED:20190120T214249Z
UID:4646-1628420400-1628424000@aadesmoines.org
SUMMARY:Intergroup Banquet Committee Meeting
DESCRIPTION:For the annual Intergroup Banquet
URL:https://aadesmoines.org/event/intergroup-banquet-committee-meeting-11-2021-08-08/
LOCATION:Central Office\, 1620 Pleasant ST Suite 228\, Des Moines\, IA\, 50314\, United States
CATEGORIES:Committee Meetings
END:VEVENT
BEGIN:VEVENT
DTSTART;TZID=America/Chicago:20210711T130000
DTEND;TZID=America/Chicago:20210711T140000
DTSTAMP:20260423T052048
CREATED:20190120T214251Z
LAST-MODIFIED:20190120T214251Z
UID:4669-1626008400-1626012000@aadesmoines.org
SUMMARY:Intergroup Meeting
DESCRIPTION:
URL:https://aadesmoines.org/event/intergroup-meeting-11-2021-07-11/
LOCATION:Central Office\, 1620 Pleasant ST Suite 228\, Des Moines\, IA\, 50314\, United States
CATEGORIES:Committee Meetings
END:VEVENT
BEGIN:VEVENT
DTSTART;TZID=America/Chicago:20210711T110000
DTEND;TZID=America/Chicago:20210711T120000
DTSTAMP:20260423T052048
CREATED:20190120T214249Z
LAST-MODIFIED:20190120T214249Z
UID:4645-1626001200-1626004800@aadesmoines.org
SUMMARY:Intergroup Banquet Committee Meeting
DESCRIPTION:For the annual Intergroup Banquet
URL:https://aadesmoines.org/event/intergroup-banquet-committee-meeting-11-2021-07-11/
LOCATION:Central Office\, 1620 Pleasant ST Suite 228\, Des Moines\, IA\, 50314\, United States
CATEGORIES:Committee Meetings
END:VEVENT
BEGIN:VEVENT
DTSTART;VALUE=DATE:20200809
DTEND;VALUE=DATE:20200810
DTSTAMP:20260423T052048
CREATED:20191208T225725Z
LAST-MODIFIED:20191208T225725Z
UID:4730-1596931200-1597017599@aadesmoines.org
SUMMARY:Area 24 Business Meeting
DESCRIPTION:
URL:https://aadesmoines.org/event/area-24-business-meeting/
LOCATION:Marshalltown Regency Best Western\, 3303 S Center ST\, Marshalltown\, IA\, 50158\, United States
CATEGORIES:Business Meeting
END:VEVENT
BEGIN:VEVENT
DTSTART;TZID=America/Chicago:20200807T190000
DTEND;TZID=America/Chicago:20200809T120000
DTSTAMP:20260423T052048
CREATED:20200225T152051Z
LAST-MODIFIED:20200225T152051Z
UID:9592-1596826800-1596974400@aadesmoines.org
SUMMARY:Rock Creek Recovery Campout
DESCRIPTION:Rock Creek State Park\nKellogg\, IA \n8/7/2020 – 8/9/2020 \nsee attached flyer
URL:https://aadesmoines.org/event/rock-creek-recovery-campout/
LOCATION:Rock Creek State Park\, 5627 Rock Creek E St\, Kellogg\, IA\, 50135\, United States
CATEGORIES:Retreat
END:VEVENT
BEGIN:VEVENT
DTSTART;VALUE=DATE:20200718
DTEND;VALUE=DATE:20200719
DTSTAMP:20260423T052048
CREATED:20200308T203516Z
LAST-MODIFIED:20200308T203516Z
UID:10485-1595030400-1595116799@aadesmoines.org
SUMMARY:As Recovering Women See It - One Day Conference for Women in Alcoholics Anonymous
DESCRIPTION:“As Recovering Women See It”\n\nA One-day Conference for Women in Alcoholics Anonymous with Al-Anon Participation \nSponsored by the Iowa Women’s Luncheon Committee \nPanels/workshops and a luncheon speaker \n\n\n\nSaturday\, July 18\, 2020\n\nFred Maytag Scout Center \n6123 Scout Trail\, Des Moines\, IA 50321 \n\nThe conference begins at 9 a.m. on Saturday\, July 18\, 2020 (registration begins at 8 a.m.)\n$28 (PayPal and Credit Cards only accepted on website (3 % fee on credit card and PayPal payments)\n$25 if paid by check\nYou can pay by check by downloading the form on the website\, including this with your check and entree selection. Make checks payable to: Iowa Women’s Luncheon and mail to PO Box 8037\, Des Moines\, IA 50301\nLunch is included\, salad and sandwich buffet.\nPlease refrain from wearing fragrances\nChildren are not allowed at the conference and daycare will not be offered\nhttps://westcentralw2w.org/\n\nsee attached flyer
URL:https://aadesmoines.org/event/as-recovering-women-see-it-one-day-conference-for-women-in-alcoholics-anonymous/
LOCATION:Fred Maytag Scout Center\, 6123 Scout Trail\, Des Moines\, IA\, 50123\, United States
CATEGORIES:Conference
END:VEVENT
BEGIN:VEVENT
DTSTART;TZID=America/Chicago:20200516T170000
DTEND;TZID=America/Chicago:20200516T210000
DTSTAMP:20260423T052048
CREATED:20200308T165101Z
LAST-MODIFIED:20200310T185103Z
UID:10481-1589648400-1589662800@aadesmoines.org
SUMMARY:Ames Alano Lasagna Dinner
DESCRIPTION:Ames Alano Lasagna Dinner \n1201 McCormick Drive\nAmes\, IA 50010\nSaturday 5/16/2020\n5:00 p.m. – Doors Open\n5:30 p.m. – Dinner\nAl-Anon Speaker: Jen S. from Ames\, IA\nA.A. Speaker: Jason O. from Ames\, IA\nDonation of $7.00 Suggested \n\nsee attached flyer
URL:https://aadesmoines.org/event/ames-alano-lasagna-dinner-2/
LOCATION:1201 McCormick Dr\, 1201 McCormick Ave\, Ames\, IA\, 50010\, United States
CATEGORIES:Group Event,Meeting
END:VEVENT
BEGIN:VEVENT
DTSTART;TZID=America/Chicago:20200503T103000
DTEND;TZID=America/Chicago:20200503T150000
DTSTAMP:20260423T052048
CREATED:20200308T164804Z
LAST-MODIFIED:20200310T184957Z
UID:10478-1588501800-1588518000@aadesmoines.org
SUMMARY:Living The 3 Legacies
DESCRIPTION:Living The 3 Legacies\nSunday May 3\, 2020\n\n10:30 am – 3:00 pm\nSt John’s United Methodist Church\n​212 7th St.\n\nMapleton\, IA\nAgenda: 1st Speaker – Luncheon – 2nd Speaker\n2nd Edition Big Book will be Raffled (Must be present to win)\nIce Cream Social and Book Raffle Following the Speakers\nSpeakers –\n\nSarah H. – Past Archivist – Area 24\nRick W. – Past Delegate – Area 24\nsee attached flyer
URL:https://aadesmoines.org/event/living-the-3-legacies/
LOCATION:St. John’s United Methodist Church\, 212 7th ST\, Mapleton\, IA\, United States
CATEGORIES:Workshop
END:VEVENT
BEGIN:VEVENT
DTSTART;TZID=America/Chicago:20200501T170000
DTEND;TZID=America/Chicago:20200501T210000
DTSTAMP:20260423T052048
CREATED:20200228T020703Z
LAST-MODIFIED:20200228T020703Z
UID:9599-1588352400-1588366800@aadesmoines.org
SUMMARY:Freedom Group 27th Anniversary
DESCRIPTION:The Freedom Group will be celebrating the 27th anniversary\, with a potluck meal\, raffle and speaker. \nMay 1st 2020 \nFt. DSM UMC \n6205 SW 9th St. \nDes Moines IA \n– Doors open at 5:00 \n– Meal at 6:00 \n– Raffle at 7:00 \n– Speaker at 8:00\, John H. Des Moines \n– Meat provided\, pop and water available \n– Please bring a side dish or dessert to share \nSee attached flyer
URL:https://aadesmoines.org/event/freedom-group-27th-anniversary/
LOCATION:Fort Des Moines United Methodist\, 6205 SW 9th ST\, Des Moines\, IA\, 50315\, United States
CATEGORIES:Anniversary,Meeting
END:VEVENT
BEGIN:VEVENT
DTSTART;TZID=America/Chicago:20200404T100000
DTEND;TZID=America/Chicago:20200404T140000
DTSTAMP:20260423T052048
CREATED:20200122T232142Z
LAST-MODIFIED:20200310T184516Z
UID:7846-1585994400-1586008800@aadesmoines.org
SUMMARY:Back to the Basics AA Workshop
DESCRIPTION:Back to the Basics\nAA Workshop\nSaturday\, April 4\, 2020\n10 AM—2 PM\n\nLunch Provided\n Anonymity\n Sponsorship\n AA etiquette\nShenandoah Library\n201 Elm Street\nShenandoah\, IA 51601\nsee attached flyer
URL:https://aadesmoines.org/event/back-to-the-basics-aa-workshop/
LOCATION:Shenandoah Library\, 201 Elm Street\, Shenandoah\, IA\, 51601\, United States
CATEGORIES:Workshop
END:VEVENT
BEGIN:VEVENT
DTSTART;TZID=America/Chicago:20200315T180000
DTEND;TZID=America/Chicago:20200315T200000
DTSTAMP:20260423T052048
CREATED:20200229T231646Z
LAST-MODIFIED:20200310T184327Z
UID:10035-1584295200-1584302400@aadesmoines.org
SUMMARY:Washington Caring & Sharing Group Presents: St. Patrick's Day Dinner
DESCRIPTION:The Washington Caring & Sharing group \nis hosting a St. Patrick’s Day dinner. \nSaturday\, March 15\, 2020 \nCorned Beef and Cabbage provided. \nPlease bring a side dish to share. \nFriends and family are welcome to join. \nGrace Community Church \nWashington\, IA\nDinner at 6:00 pm \nMeeting at 7:00 pm \n$5.00 suggested free will donation \nsee attached flyer
URL:https://aadesmoines.org/event/washington-caring-sharing-group-presents-st-patricks-day-dinner/
LOCATION:Grace Community Church\, 301 W 2nd St\, Washington\, IA\, 52353\, United States
CATEGORIES:Banquet,Meeting
END:VEVENT
BEGIN:VEVENT
DTSTART;TZID=America/Chicago:20200312T190000
DTEND;TZID=America/Chicago:20200312T200000
DTSTAMP:20260423T052048
CREATED:20200310T164120Z
LAST-MODIFIED:20200310T164120Z
UID:10032-1584039600-1584043200@aadesmoines.org
SUMMARY:No Expectations Presents: Spring Into Conscious Contact With God
DESCRIPTION:NO EXPECTATIONS PRESENTS\nSPRING INTO CONSCIOUS\nCONTACT WITH GOD\nMARCH 2020\nTHURSDAYS@7PM\nCOLEGIATE PRESBYTERIAN CHURCH\n159 SHELDON AVE\nAMES\, IA 50014\nMarch 5\, 2020 – Building a Relationship with your higher power\nMarch 12\, 2020 – Prayer AND Meditation\nMarch 19\, 2020 – The 11th Step Prayer\nMarch 26\, 2020 – Speaker Paul W. from Des Moines will speak on the 11th step\nsee attached flyer
URL:https://aadesmoines.org/event/no-expectations-presents-spring-into-conscious-contact-with-god/
LOCATION:Collegiate Presbyterian Church\, 159 Sheldon Ave\, Ames\, IA\, 50014\, United States
CATEGORIES:Meeting
END:VEVENT
BEGIN:VEVENT
DTSTART;TZID=America/Chicago:20200312T183000
DTEND;TZID=America/Chicago:20200312T203000
DTSTAMP:20260423T052048
CREATED:20200122T232749Z
LAST-MODIFIED:20200122T232749Z
UID:7849-1584037800-1584045000@aadesmoines.org
SUMMARY:Des Moines Foxhall Group 30th Anniversary
DESCRIPTION:Des Moines Foxhall Group \n30th Anniversary \nThursday\, March 12\, 2020 \n6:30 PM – Cake & Fellowship \n7:30 PM – Speaker – Denny J – Bellevue\, NE \nFirst United Methodist Church \n1001 Pleasant St \nDes Moines\, IA \nsee attached flyer
URL:https://aadesmoines.org/event/des-moines-foxhall-group-30th-anniversary/
LOCATION:First United Methodist Church\, 1001 Pleasant St\, Des Moines\, IA\, 50309\, United States
CATEGORIES:Anniversary,Meeting
END:VEVENT
BEGIN:VEVENT
DTSTART;TZID=America/Chicago:20200309T180000
DTEND;TZID=America/Chicago:20200309T200000
DTSTAMP:20260423T052048
CREATED:20200209T182312Z
LAST-MODIFIED:20200209T182312Z
UID:8723-1583776800-1583784000@aadesmoines.org
SUMMARY:Monday Night Men's Stag 2nd Anniversary
DESCRIPTION:Monday\, March 9th\, 2020 \nSt. Andrew’s Episcopal Church\n5720 Urbandale Ave\nDes Moines\, IA \n6p-6:30 Cake\, Coffee and Fellowship\n6:30p Speaker Chris S from Des Moines \nAll members of Alcoholics Anonymous (Male & Female) are welcome and encouraged to attend \nQuestions? Contact Joe L 515-525-5224 or Tom D 515-322-0591 \nsee attached flyer
URL:https://aadesmoines.org/event/monday-night-mens-stag-2nd-anniversary/
LOCATION:St. Andrew’s Episcopal Church\, 5720 Urbandale Ave\, Des Moines\, IA\, 50311\, United States
CATEGORIES:Anniversary,Meeting
END:VEVENT
END:VCALENDAR