BEGIN:VCALENDAR
VERSION:2.0
PRODID:-//AA Des Moines - ECPv6.15.20//NONSGML v1.0//EN
CALSCALE:GREGORIAN
METHOD:PUBLISH
X-ORIGINAL-URL:https://aadesmoines.org
X-WR-CALDESC:Events for AA Des Moines
REFRESH-INTERVAL;VALUE=DURATION:PT1H
X-Robots-Tag:noindex
X-PUBLISHED-TTL:PT1H
BEGIN:VTIMEZONE
TZID:America/Chicago
BEGIN:DAYLIGHT
TZOFFSETFROM:-0600
TZOFFSETTO:-0500
TZNAME:CDT
DTSTART:20180311T080000
END:DAYLIGHT
BEGIN:STANDARD
TZOFFSETFROM:-0500
TZOFFSETTO:-0600
TZNAME:CST
DTSTART:20181104T070000
END:STANDARD
BEGIN:DAYLIGHT
TZOFFSETFROM:-0600
TZOFFSETTO:-0500
TZNAME:CDT
DTSTART:20190310T080000
END:DAYLIGHT
BEGIN:STANDARD
TZOFFSETFROM:-0500
TZOFFSETTO:-0600
TZNAME:CST
DTSTART:20191103T070000
END:STANDARD
BEGIN:DAYLIGHT
TZOFFSETFROM:-0600
TZOFFSETTO:-0500
TZNAME:CDT
DTSTART:20200308T080000
END:DAYLIGHT
BEGIN:STANDARD
TZOFFSETFROM:-0500
TZOFFSETTO:-0600
TZNAME:CST
DTSTART:20201101T070000
END:STANDARD
END:VTIMEZONE
BEGIN:VEVENT
DTSTART;TZID=America/Chicago:20190707T190000
DTEND;TZID=America/Chicago:20190707T210000
DTSTAMP:20260423T171612
CREATED:20190320T030504Z
LAST-MODIFIED:20190320T030911Z
UID:2830-1562526000-1562533200@aadesmoines.org
SUMMARY:Dexter Step Study Group
DESCRIPTION:Step 7 Speaker – Nate W \nDexter Step Study Group Speakers Flyer
URL:https://aadesmoines.org/event/dexter-step-study-group-6/
LOCATION:Dexter United Methodist Church\, 1008 Polk St\, Dexter\, IA\, 50070\, United States
CATEGORIES:Meeting
END:VEVENT
BEGIN:VEVENT
DTSTART;TZID=America/Chicago:20190704T060000
DTEND;TZID=America/Chicago:20190704T150000
DTSTAMP:20260423T171612
CREATED:20190521T023202Z
LAST-MODIFIED:20190614T013235Z
UID:2982-1562220000-1562252400@aadesmoines.org
SUMMARY:F & G / White House 4th Of July Picnic
DESCRIPTION:➢ 6 a.m. Open Sunrise Meeting\n➢ 10 a.m. Open Meeting\n➢ 50/50 Raffle\n➢ Serving at Noon \nProvided:\n➢ Hamburgers\, Hotdogs\, & Lemonade\n➢ Please Bring a Side Dish\n➢ Coke or Pepsi $1.00\n➢ Water 50₵ \nSaylorville Lake\nCherry Glen Campground\nShelter 6 \nF&G / White House 4th of July Picnic Flyer \nF&G / White House 4th of July Picnic Map
URL:https://aadesmoines.org/event/f-g-white-house-4th-of-july-picnic/
LOCATION:Cherry Glen Campground – Saylorville Lake\, 4338 North West 94th Place\, Ankeny\, IA\, 50021\, United States
CATEGORIES:Meeting,Potluck/Picnic/BBQ
END:VEVENT
BEGIN:VEVENT
DTSTART;TZID=America/Chicago:20190626T190000
DTEND;TZID=America/Chicago:20190626T200000
DTSTAMP:20260423T171612
CREATED:20190429T231722Z
LAST-MODIFIED:20190429T231722Z
UID:2929-1561575600-1561579200@aadesmoines.org
SUMMARY:Ames Downtowners June Jubilee 2019
DESCRIPTION:Ames Downtowners\nCelebrate AA’s Birthday\nJune Jubilee 2019 \nJune 5 – Doug G – Des Moines \nJune 12 – Greg K – Des Moines \nJune 19 – Ericka M – Cedar Rapids \nJune 26 – Ali B – Des Moines \n7pm \nFirst United Methodist Church\n516 Kellog Ave\nAmes\, IA \nUse NE Entrance Downstairs to the Right\nHandicap Entrance on the South Side \nAmes Downtowners June Jubilee Flyer
URL:https://aadesmoines.org/event/ames-downtowners-june-jubilee-2019-3/
LOCATION:Ames First United Methodist Church\, 516 Kellog Ave\, Ames\, IA\, 50010\, United States
CATEGORIES:Meeting
END:VEVENT
BEGIN:VEVENT
DTSTART;TZID=America/Chicago:20190619T190000
DTEND;TZID=America/Chicago:20190619T200000
DTSTAMP:20260423T171612
CREATED:20190429T231622Z
LAST-MODIFIED:20190429T231638Z
UID:2926-1560970800-1560974400@aadesmoines.org
SUMMARY:Ames Downtowners June Jubilee 2019
DESCRIPTION:Ames Downtowners\nCelebrate AA’s Birthday\nJune Jubilee 2019 \nJune 5 – Doug G – Des Moines \nJune 12 – Greg K – Des Moines \nJune 19 – Ericka M – Cedar Rapids \nJune 26 – Ali B – Des Moines \n7pm \nFirst United Methodist Church\n516 Kellog Ave\nAmes\, IA \nUse NE Entrance Downstairs to the Right\nHandicap Entrance on the South Side \nAmes Downtowners June Jubilee Flyer
URL:https://aadesmoines.org/event/ames-downtowners-june-jubilee-2019-2/
LOCATION:Ames First United Methodist Church\, 516 Kellog Ave\, Ames\, IA\, 50010\, United States
CATEGORIES:Meeting
END:VEVENT
BEGIN:VEVENT
DTSTART;TZID=America/Chicago:20190614T180000
DTEND;TZID=America/Chicago:20190615T180000
DTSTAMP:20260423T171612
CREATED:20190505T201804Z
LAST-MODIFIED:20190505T201804Z
UID:2945-1560535200-1560621600@aadesmoines.org
SUMMARY:IAYPAA 4 Cedar Rapids: Potluck Dinner and Poppin' Tags Thrift Store Prom
DESCRIPTION:
URL:https://aadesmoines.org/event/iaypaa4potluckdinner/
LOCATION:White House\, 1400 Pennsylvania Ave\, Des Moines\, IA\, 50316\, United States
CATEGORIES:Conference Pre Event,Meeting
END:VEVENT
BEGIN:VEVENT
DTSTART;TZID=America/Chicago:20190612T190000
DTEND;TZID=America/Chicago:20190612T200000
DTSTAMP:20260423T171612
CREATED:20190429T231537Z
LAST-MODIFIED:20190429T231537Z
UID:2924-1560366000-1560369600@aadesmoines.org
SUMMARY:Ames Downtowners June Jubilee 2019
DESCRIPTION:Ames Downtowners\nCelebrate AA’s Birthday\nJuneJubilee2019 \nJune 5 – Doug G – Des Moines \nJune 12 – Greg K – Des Moines \nJune 19 – Ericka M – Cedar Rapids \nJune 26 – Ali B – Des Moines \n7pm \nFirst United Methodist Church\n516 Kellog Ave\nAmes\, IA \nUse NE Entrance Downstairs to the Right\nHandicap Entrance on the South Side \nAmes Downtowners June Jubilee Flyer
URL:https://aadesmoines.org/event/ames-downtowners-june-jubilee-2019/
LOCATION:Ames First United Methodist Church\, 516 Kellog Ave\, Ames\, IA\, 50010\, United States
CATEGORIES:Meeting
END:VEVENT
BEGIN:VEVENT
DTSTART;TZID=America/Chicago:20190611T180000
DTEND;TZID=America/Chicago:20190611T210000
DTSTAMP:20260423T171612
CREATED:20190611T022920Z
LAST-MODIFIED:20190611T022920Z
UID:3009-1560276000-1560286800@aadesmoines.org
SUMMARY:Founders Day Picnic - Mason City
DESCRIPTION:
URL:https://aadesmoines.org/event/founders-day-picnic-mason-city/
LOCATION:Lester Milligan Park\, 1180 15th Street Southwest\, Mason City\, Iowa\, 50401\, United States
CATEGORIES:Meeting,Potluck/Picnic/BBQ
END:VEVENT
BEGIN:VEVENT
DTSTART;TZID=America/Chicago:20190608T113000
DTEND;TZID=America/Chicago:20190609T000000
DTSTAMP:20260423T171612
CREATED:20190429T232354Z
LAST-MODIFIED:20190429T232354Z
UID:2931-1559993400-1560038400@aadesmoines.org
SUMMARY:Still Rocking in Recovery - Waterloo Car & Bike Show
DESCRIPTION:84th Founder’s Day Celebration\n“Still Rockin in Recovery” \nSaturday\, June 8th 2019\n11:30a-12pm (Midnight) \nAA Speaker 8p-9p with DJ/Dance 9:30p-Midnight \nIron Horse Motorcycle/Car Show – Judting at 5pm – Entry fee $15.00 \nHot Dog\, Corn on the Cob & Chips -$2.00 or Brat $3.00\nCoffee Provided\, bring a dessert to share. 50/50 Raffle \n$10 suggested donation for adults – $5 for 15 y/o or younger\nNobody turned away! \nWaterloo Car and Bike Show Flyer 2019
URL:https://aadesmoines.org/event/still-rocking-in-recovery-waterloo-car-bike-show/
LOCATION:UAW Hall\, 2615 Washington St\, Waterloo\, IA\, 50702\, United States
CATEGORIES:Meeting,Potluck/Picnic/BBQ
END:VEVENT
BEGIN:VEVENT
DTSTART;TZID=America/Chicago:20190605T190000
DTEND;TZID=America/Chicago:20190605T200000
DTSTAMP:20260423T171612
CREATED:20190429T230755Z
LAST-MODIFIED:20190429T230929Z
UID:2920-1559761200-1559764800@aadesmoines.org
SUMMARY:Ames Downtowners June Jubliee 2019
DESCRIPTION:Ames Downtowners\nCelebrate AA’s Birthday\nJuneJubilee2019 \nJune 5 – Doug G – Des Moines \nJune 12 – Greg K – Des Moines \nJune 19 – Ericka M – Cedar Rapids \nJune 26 – Ali B – Des Moines \n7pm \nFirst United Methodist Church\n516 Kellog Ave\nAmes\, IA \nUse NE Entrance Downstairs to the Right\nHandicap Entrance on the South Side \nAmes Downtowners June Jubilee Flyer
URL:https://aadesmoines.org/event/ames-downtowners-june-jubliee-2019/
LOCATION:Ames First United Methodist Church\, 516 Kellog Ave\, Ames\, IA\, 50010\, United States
CATEGORIES:Meeting
END:VEVENT
BEGIN:VEVENT
DTSTART;TZID=America/Chicago:20190602T190000
DTEND;TZID=America/Chicago:20190602T210000
DTSTAMP:20260423T171612
CREATED:20190320T030504Z
LAST-MODIFIED:20190320T030821Z
UID:2829-1559502000-1559509200@aadesmoines.org
SUMMARY:Dexter Step Study Group
DESCRIPTION:Step 6 Speaker – Alisha C \nDexter Step Study Group Speakers Flyer
URL:https://aadesmoines.org/event/dexter-step-study-group-5/
LOCATION:Dexter United Methodist Church\, 1008 Polk St\, Dexter\, IA\, 50070\, United States
CATEGORIES:Meeting
END:VEVENT
BEGIN:VEVENT
DTSTART;TZID=America/Chicago:20190518T180000
DTEND;TZID=America/Chicago:20190518T210000
DTSTAMP:20260423T171612
CREATED:20190429T232752Z
LAST-MODIFIED:20190429T232752Z
UID:2934-1558202400-1558213200@aadesmoines.org
SUMMARY:Mason City Chip Night Dinner
DESCRIPTION:Chip Night Dinner\n6:00 p.m. – Dinner\n8:00 p.m. – AA Chip Meeting\n8:00 p.m. – Al-Anon Meeting \nWalking Taco’s will be provided\, but bring your favorite mexican foods (enchiladas\, tamales\, chips\, guacamole\, salsa\, queso and whatever to share) \nCall Lisa B 641-420-4294 for questions\nAny proceeds will go to the MC Home Group \nMason City Chip Night Dinner Flyer (May)
URL:https://aadesmoines.org/event/mason-city-chip-night-dinner-2/
LOCATION:Mason City Clubhouse\, 207 8th Place SE\, Mason City\, IA\, 50401\, United States
CATEGORIES:Meeting,Potluck/Picnic/BBQ
END:VEVENT
BEGIN:VEVENT
DTSTART;TZID=America/Chicago:20190511T093000
DTEND;TZID=America/Chicago:20190511T180000
DTSTAMP:20260423T171612
CREATED:20190208T200521Z
LAST-MODIFIED:20190307T022932Z
UID:2618-1557567000-1557597600@aadesmoines.org
SUMMARY:The IA Bid for HACYPAA V Presents 2019 Dodge Ball Tournament
DESCRIPTION:9:30 a.m. – 6:00 p.m.\n9:30 a.m. – Doors open\n10:00 a.m. – AA Speaker –\nJessie G.\n11:30 a.m. – Tournament starts\n$10.00 per team\nConcessions will be SOLD
URL:https://aadesmoines.org/event/the-ia-bid-for-hacypaa-v-presents-2019-dodge-ball-tournament/
LOCATION:Salvation Army Community Center\, 1216 E 25th CT\, Des Moines\, IA\, 50317\, United States
CATEGORIES:Meeting
END:VEVENT
BEGIN:VEVENT
DTSTART;TZID=America/Chicago:20190505T190000
DTEND;TZID=America/Chicago:20190505T210000
DTSTAMP:20260423T171612
CREATED:20190320T030504Z
LAST-MODIFIED:20190320T030747Z
UID:2828-1557082800-1557090000@aadesmoines.org
SUMMARY:Dexter Step Study Group
DESCRIPTION:Step 5 Speaker – Lisa S \nDexter Step Study Group Speakers Flyer
URL:https://aadesmoines.org/event/dexter-step-study-group-4/
LOCATION:Dexter United Methodist Church\, 1008 Polk St\, Dexter\, IA\, 50070\, United States
CATEGORIES:Meeting
END:VEVENT
BEGIN:VEVENT
DTSTART;TZID=America/Chicago:20190407T190000
DTEND;TZID=America/Chicago:20190407T200000
DTSTAMP:20260423T171612
CREATED:20190120T192405Z
LAST-MODIFIED:20190319T171200Z
UID:2269-1554663600-1554667200@aadesmoines.org
SUMMARY:Dexter Step Study Group
DESCRIPTION:7:00 PM Speaker – Pete C \nDexter Step Study Speakers Flyer
URL:https://aadesmoines.org/event/dexter-step-study-group-3/
LOCATION:Dexter United Methodist Church\, 1008 Polk St\, Dexter\, IA\, 50070\, United States
CATEGORIES:Meeting
END:VEVENT
BEGIN:VEVENT
DTSTART;TZID=America/Chicago:20190329T063000
DTEND;TZID=America/Chicago:20190329T073000
DTSTAMP:20260423T171612
CREATED:20190223T191039Z
LAST-MODIFIED:20190305T232504Z
UID:2668-1553841000-1553844600@aadesmoines.org
SUMMARY:Ankeny AA Early Bird Meeting Potluck
DESCRIPTION:To Celebrate our 12th Anniversary\nSpeaker: Mike M\nPlease bring a dish to share \nEarly Bird Meeting Potluck Flyer
URL:https://aadesmoines.org/event/ankeny-aa-early-bird-meeting-potluck/
LOCATION:St. Anne’s Episcopal Church\, 2110 W 1st St\, Ankeny\, IA\, 50023\, United States
CATEGORIES:Meeting
END:VEVENT
BEGIN:VEVENT
DTSTART;TZID=America/Chicago:20190325T183000
DTEND;TZID=America/Chicago:20190325T203000
DTSTAMP:20260423T171612
CREATED:20190207T024305Z
LAST-MODIFIED:20190305T232450Z
UID:2606-1553538600-1553545800@aadesmoines.org
SUMMARY:Chip Night at the Forest City Unity Group
DESCRIPTION:Chip Night at the\nForest City Unity Group\n135 East J Street\nForest City\, IA 50436\n6:30 p.m. – Potluck\n7:30 p.m. – Speaker\nBecky A. of Fort Dodge \nForest City Chip Night Flyer
URL:https://aadesmoines.org/event/chip-night-at-the-forest-city-unity-group-2/
LOCATION:Forest City Unity Group\, 135 East J St\, Forest City\, IA\, 50436\, United States
CATEGORIES:Meeting
END:VEVENT
BEGIN:VEVENT
DTSTART;TZID=America/Chicago:20190316T090000
DTEND;TZID=America/Chicago:20190316T110000
DTSTAMP:20260423T171612
CREATED:20190207T022621Z
LAST-MODIFIED:20190305T232427Z
UID:2594-1552726800-1552734000@aadesmoines.org
SUMMARY:Newton Breakfast Speaker Meeting
DESCRIPTION:Breakfast Potluck speaker meeting\, bring a dish or two to share!! Table Service and drinks will be provided. \n9am Breakfast\n10am Speaker – Helen T (Newton\, IA) \nNewton Breakfast Speaker Meeting Flyer
URL:https://aadesmoines.org/event/newton-breakfast-speaker-meeting/
LOCATION:St. Stephen’s Episcopal Church\, 223 E 4th ST N\, Newton\, IA\, 50208\, United States
CATEGORIES:Meeting
END:VEVENT
BEGIN:VEVENT
DTSTART;TZID=America/Chicago:20190310T080000
DTEND;TZID=America/Chicago:20190310T100000
DTSTAMP:20260423T171612
CREATED:20190120T192405Z
LAST-MODIFIED:20190120T195322Z
UID:2270-1552204800-1552212000@aadesmoines.org
SUMMARY:Amana Speaker Meeting - 2nd Sunday
DESCRIPTION:8:00 AM Breakfast\, 9:00 AM Speaker Troy F from Cedar Rapids
URL:https://aadesmoines.org/event/amana-speaker-meeting-2nd-sunday/
LOCATION:Ronneburg Restaurant\, 4408 220th Trail\, Amana\, IA\, 52203\, United States
CATEGORIES:Meeting
END:VEVENT
BEGIN:VEVENT
DTSTART;TZID=America/Chicago:20190303T190000
DTEND;TZID=America/Chicago:20190303T200000
DTSTAMP:20260423T171612
CREATED:20190120T192405Z
LAST-MODIFIED:20190319T171139Z
UID:2268-1551639600-1551643200@aadesmoines.org
SUMMARY:Dexter Step Study Group
DESCRIPTION:7:00 PM Speaker – Mike A \nDexter Step Study Speaker Flyer
URL:https://aadesmoines.org/event/dexter-step-study-group-2/
LOCATION:Dexter United Methodist Church\, 1008 Polk St\, Dexter\, IA\, 50070\, United States
CATEGORIES:Meeting
END:VEVENT
BEGIN:VEVENT
DTSTART;TZID=America/Chicago:20190225T183000
DTEND;TZID=America/Chicago:20190225T203000
DTSTAMP:20260423T171612
CREATED:20190207T024118Z
LAST-MODIFIED:20190305T232421Z
UID:2603-1551119400-1551126600@aadesmoines.org
SUMMARY:Chip Night at the Forest City Unity Group
DESCRIPTION:Chip Night at the\nForest City Unity Group\n135 East J Street\nForest City\, IA 50436\n6:30 p.m. – Potluck\n7:30 p.m. – Speaker\nMike S. of Forest City \nForest City Chip Night
URL:https://aadesmoines.org/event/chip-night-at-the-forest-city-unity-group/
LOCATION:Forest City Unity Group\, 135 East J St\, Forest City\, IA\, 50436\, United States
CATEGORIES:Meeting
END:VEVENT
BEGIN:VEVENT
DTSTART;TZID=America/Chicago:20190225T180000
DTEND;TZID=America/Chicago:20190225T210000
DTSTAMP:20260423T171612
CREATED:20190122T023009Z
LAST-MODIFIED:20190122T023321Z
UID:2472-1551117600-1551128400@aadesmoines.org
SUMMARY:3 Legacies Steps Month
DESCRIPTION:Steps 10\, 11\, 12 – 6pm Eric S\nSteps 10\, 11\, 12 – 8pm Susie J \n3 Legacies Steps Month Flyer
URL:https://aadesmoines.org/event/3-legacies-steps-month-4/
LOCATION:Grace Lutheran Church\, 3010 52nd ST\, Des Moines\, IA\, 50310\, United States
CATEGORIES:Meeting
END:VEVENT
BEGIN:VEVENT
DTSTART;TZID=America/Chicago:20190224T130000
DTEND;TZID=America/Chicago:20190224T160000
DTSTAMP:20260423T171612
CREATED:20190207T021506Z
LAST-MODIFIED:20190305T232410Z
UID:2590-1551013200-1551024000@aadesmoines.org
SUMMARY:Sandy E 35th Birthday Celebration
DESCRIPTION:Kim S Speaking at 2pm\nCake and Beverages will be served\nQuestions? – Contact Catherine at 515-735-8029 \nSandy E Birthday Celebration Flyer
URL:https://aadesmoines.org/event/sandy-e-35th-birthday-celebration/
LOCATION:McCormick Clubhouse\, 1201 McCormick Ave\, Ames\, IA\, 50010\, United States
CATEGORIES:Meeting
END:VEVENT
BEGIN:VEVENT
DTSTART;TZID=America/Chicago:20190218T180000
DTEND;TZID=America/Chicago:20190218T210000
DTSTAMP:20260423T171612
CREATED:20190122T023009Z
LAST-MODIFIED:20190122T023423Z
UID:2471-1550512800-1550523600@aadesmoines.org
SUMMARY:3 Legacies Steps Month
DESCRIPTION:Steps 7\, 8\, 9 – 6pm Joe B\nSteps 7\, 8 – 8pm Phil S \n3 Legacies Steps Month Flyer
URL:https://aadesmoines.org/event/3-legacies-steps-month-3/
LOCATION:Grace Lutheran Church\, 3010 52nd ST\, Des Moines\, IA\, 50310\, United States
CATEGORIES:Meeting
END:VEVENT
BEGIN:VEVENT
DTSTART;TZID=America/Chicago:20190211T180000
DTEND;TZID=America/Chicago:20190211T210000
DTSTAMP:20260423T171612
CREATED:20190122T023008Z
LAST-MODIFIED:20190122T023509Z
UID:2470-1549908000-1549918800@aadesmoines.org
SUMMARY:3 Legacies Steps Month
DESCRIPTION:Steps 4\, 5\, 6 – 6pm Dave C\nSteps 4\, 5\, 6\, 7 – 8pm Greg K \n3 Legacies Steps Month Flyer
URL:https://aadesmoines.org/event/3-legacies-steps-month-2/
LOCATION:Grace Lutheran Church\, 3010 52nd ST\, Des Moines\, IA\, 50310\, United States
CATEGORIES:Meeting
END:VEVENT
BEGIN:VEVENT
DTSTART;TZID=America/Chicago:20190210T080000
DTEND;TZID=America/Chicago:20190210T100000
DTSTAMP:20260423T171612
CREATED:20190120T192406Z
LAST-MODIFIED:20190120T195324Z
UID:2271-1549785600-1549792800@aadesmoines.org
SUMMARY:Amana Speaker Meeting - 2nd Sunday
DESCRIPTION:8:00 AM Breakfast\, 9:00 AM Speaker Mark S from Cedar Rapids
URL:https://aadesmoines.org/event/amana-speaker-meeting-2nd-sunday-2/
LOCATION:Ronneburg Restaurant\, 4408 220th Trail\, Amana\, IA\, 52203\, United States
CATEGORIES:Meeting
END:VEVENT
BEGIN:VEVENT
DTSTART;TZID=America/Chicago:20190204T180000
DTEND;TZID=America/Chicago:20190204T210000
DTSTAMP:20260423T171612
CREATED:20190122T023008Z
LAST-MODIFIED:20190122T023552Z
UID:2469-1549303200-1549314000@aadesmoines.org
SUMMARY:3 Legacies Steps Month
DESCRIPTION:Steps 1\, 2\, 3 – 6pm Jim R\nSteps 1\, 2\, 3 – 8pm Cheryl B \n3 Legacies Steps Month Flyer
URL:https://aadesmoines.org/event/3-legacies-steps-month/
LOCATION:Grace Lutheran Church\, 3010 52nd ST\, Des Moines\, IA\, 50310\, United States
CATEGORIES:Meeting
END:VEVENT
BEGIN:VEVENT
DTSTART;TZID=America/Chicago:20190203T190000
DTEND;TZID=America/Chicago:20190203T200000
DTSTAMP:20260423T171612
CREATED:20190120T192405Z
LAST-MODIFIED:20190319T171116Z
UID:2267-1549220400-1549224000@aadesmoines.org
SUMMARY:Dexter Step Study Group
DESCRIPTION:7:00 PM Speaker – Melissa S \nDexter Step Study Speaker Flyer
URL:https://aadesmoines.org/event/dexter-step-study-group/
LOCATION:Dexter United Methodist Church\, 1008 Polk St\, Dexter\, IA\, 50070\, United States
CATEGORIES:Meeting
END:VEVENT
BEGIN:VEVENT
DTSTART;TZID=America/Chicago:20190202T110000
DTEND;TZID=America/Chicago:20190202T110000
DTSTAMP:20260423T171612
CREATED:20190120T192405Z
LAST-MODIFIED:20190120T222136Z
UID:2266-1549105200-1549105200@aadesmoines.org
SUMMARY:BRR Ride - Road to Recovery
DESCRIPTION:Doors open 11:00 AM\, Open AA Meetings 1:00 PM and 5:00 PM \nBRR Ride Flyer 2019
URL:https://aadesmoines.org/event/brr-ride-road-to-recovery/
LOCATION:Perry Alano Club\, 1213 Lucinda ST\, Perry\, IA\, 50220\, United States
CATEGORIES:Meeting
END:VEVENT
BEGIN:VEVENT
DTSTART;TZID=America/Chicago:20190131T190000
DTEND;TZID=America/Chicago:20190131T200000
DTSTAMP:20260423T171612
CREATED:20190120T192403Z
LAST-MODIFIED:20190120T222042Z
UID:2261-1548961200-1548964800@aadesmoines.org
SUMMARY:Thursday Night Speaker Meeting
DESCRIPTION:January Birthday Night \nJanuary Speakers Flyer
URL:https://aadesmoines.org/event/thursday-night-speaker-meeting-2/
LOCATION:White House\, 1400 Pennsylvania Ave\, Des Moines\, IA\, 50316\, United States
CATEGORIES:Meeting
END:VEVENT
BEGIN:VEVENT
DTSTART;TZID=America/Chicago:20190129T183000
DTEND;TZID=America/Chicago:20190129T200000
DTSTAMP:20260423T171612
CREATED:20190120T192358Z
LAST-MODIFIED:20190120T221951Z
UID:2259-1548786600-1548792000@aadesmoines.org
SUMMARY:Steps Month - Tuesday Night Big Book Discussion Group
DESCRIPTION:Eating Meeting at 6:30 PM\, Steps Wrap Up with Phil C starting at 7:00 PM \nSteps Month Flyer
URL:https://aadesmoines.org/event/steps-month-tuesday-night-big-book-discussion-group-2/
LOCATION:Collegiate United Methodist Church\, 2622 Lincoln Way\, Ames\, IA\, 50014\, United States
CATEGORIES:Meeting
END:VEVENT
END:VCALENDAR