BEGIN:VCALENDAR
VERSION:2.0
PRODID:-//AA Des Moines - ECPv6.15.20//NONSGML v1.0//EN
CALSCALE:GREGORIAN
METHOD:PUBLISH
X-WR-CALNAME:AA Des Moines
X-ORIGINAL-URL:https://aadesmoines.org
X-WR-CALDESC:Events for AA Des Moines
REFRESH-INTERVAL;VALUE=DURATION:PT1H
X-Robots-Tag:noindex
X-PUBLISHED-TTL:PT1H
BEGIN:VTIMEZONE
TZID:America/Chicago
BEGIN:DAYLIGHT
TZOFFSETFROM:-0600
TZOFFSETTO:-0500
TZNAME:CDT
DTSTART:20180311T080000
END:DAYLIGHT
BEGIN:STANDARD
TZOFFSETFROM:-0500
TZOFFSETTO:-0600
TZNAME:CST
DTSTART:20181104T070000
END:STANDARD
BEGIN:DAYLIGHT
TZOFFSETFROM:-0600
TZOFFSETTO:-0500
TZNAME:CDT
DTSTART:20190310T080000
END:DAYLIGHT
BEGIN:STANDARD
TZOFFSETFROM:-0500
TZOFFSETTO:-0600
TZNAME:CST
DTSTART:20191103T070000
END:STANDARD
BEGIN:DAYLIGHT
TZOFFSETFROM:-0600
TZOFFSETTO:-0500
TZNAME:CDT
DTSTART:20200308T080000
END:DAYLIGHT
BEGIN:STANDARD
TZOFFSETFROM:-0500
TZOFFSETTO:-0600
TZNAME:CST
DTSTART:20201101T070000
END:STANDARD
END:VTIMEZONE
BEGIN:VEVENT
DTSTART;TZID=America/Chicago:20191030T190000
DTEND;TZID=America/Chicago:20191030T210000
DTSTAMP:20260423T124447
CREATED:20190920T035158Z
LAST-MODIFIED:20190920T035329Z
UID:3228-1572462000-1572469200@aadesmoines.org
SUMMARY:Ames Downtowners 30th Anniversary
DESCRIPTION:Ames Downtowners 30th Anniversary\nWednesday\,10/30/2019\n7:00 p.m.\nFirst United Methodist Church\n\n516 Kellogg Ave.\nAmes\, IA\n\nSpeaker is Jill J. from Des Moines\, IA\nJoin us for Cake & Fellowship!\n\nUse NE Entrance\nDownstairs to the Right\nHandicap Entrance on the South Side\n\nsee attached flyer
URL:https://aadesmoines.org/event/ames-downtowners-30th-anniversary/
LOCATION:Ames First United Methodist Church\, 516 Kellog Ave\, Ames\, IA\, 50010\, United States
CATEGORIES:Anniversary,Meeting
END:VEVENT
BEGIN:VEVENT
DTSTART;TZID=America/Chicago:20191028T183000
DTEND;TZID=America/Chicago:20191028T210000
DTSTAMP:20260423T124447
CREATED:20191006T135648Z
LAST-MODIFIED:20191006T135648Z
UID:3271-1572287400-1572296400@aadesmoines.org
SUMMARY:Forest City Unity Group - Chip Night (October)
DESCRIPTION:Come join us for food fellowship and fun!\nForest City Unity Group\n135 East J Street\nForest City\, IA\nFor a Potluck\, speaker and chip night\nPlease bring a dish or desert to share and come hear\nDave C. from Ft Dodge\nshare his experience\, strength with us!\nOctober 28th\, 2019\nThe potluck starts at 6:30pm\nSpeaker and chip night start at 7:30pm\nsee attached flyer
URL:https://aadesmoines.org/event/forest-city-unity-group-chip-night-october/
LOCATION:Forest City Unity Group\, 135 East J St\, Forest City\, IA\, 50436\, United States
CATEGORIES:Meeting,Potluck/Picnic/BBQ
END:VEVENT
BEGIN:VEVENT
DTSTART;TZID=America/Chicago:20191027T120000
DTEND;TZID=America/Chicago:20191027T170000
DTSTAMP:20260423T124447
CREATED:20190521T023701Z
LAST-MODIFIED:20190614T013903Z
UID:2985-1572177600-1572195600@aadesmoines.org
SUMMARY:1st Annual Iowa Women's Luncheon
DESCRIPTION:The event will be held at the Airport Holiday Inn in Des Moines\, IA on October 27\, 2019. \n\nThere will be a lunch\, a raffle\, a 20 minute Al-Anon speaker and an AA speaker.\nDoors open at noon.\nWe will have online registration available as well as mail in registration.\n\nRegister Here \nIowa Women’s Luncheon Flyer 2019
URL:https://aadesmoines.org/event/1st-annual-iowa-womens-luncheon/
LOCATION:Holiday Inn Airport\, 6111 Fleur Dr\, Des Moines\, IA\, 50321\, United States
CATEGORIES:Conference,Meeting
END:VEVENT
BEGIN:VEVENT
DTSTART;TZID=America/Chicago:20191026T180000
DTEND;TZID=America/Chicago:20191027T003000
DTSTAMP:20260423T124447
CREATED:20190927T183346Z
LAST-MODIFIED:20190927T183346Z
UID:3255-1572112800-1572136200@aadesmoines.org
SUMMARY:Recovery Dance and Costume Party
DESCRIPTION:Recovery Dance and Costume Party\nCome dressed to impress \nSaturday October 26\, 2019\nAdmission: $5\nDoors open at 6pm\nFood at 7pm\nMusic 8pm-12:30am\nLocation: UAW Hall\, 2615 Washington ST\, Waterloo\, IA\nMain Dish: Turkey\n**Please bring a dish to share** \nsee attached flyer
URL:https://aadesmoines.org/event/recovery-dance-and-costume-party/
LOCATION:UAW Hall\, 2615 Washington St\, Waterloo\, IA\, 50702\, United States
CATEGORIES:Meeting
END:VEVENT
BEGIN:VEVENT
DTSTART;TZID=America/Chicago:20191026T083000
DTEND;TZID=America/Chicago:20191026T110000
DTSTAMP:20260423T124447
CREATED:20190920T142116Z
LAST-MODIFIED:20190920T142223Z
UID:3233-1572078600-1572087600@aadesmoines.org
SUMMARY:Saturday Morning Men's Basic 11th Anniversary
DESCRIPTION:Saturday Morning Men’s Basics\n11th Anniversary Celebration\nSaturday\, October 26\, 2019\nWindsor United Methodist Church\n6222 University Ave\nWindsor Heights\, Iowa\nCake and Fellowship from 8:30am-9:15am\nFollowed by a history presentation.\nSpeaker at 9:30\nHistory: Kelly C.\nSpeaker: Jim S. from Minneapolis\nsee attached flyer
URL:https://aadesmoines.org/event/saturday-morning-mens-basic-11th-anniversary/
LOCATION:Windsor United Methodist Church\, 6222 University Ave\, Des Moines\, IA\, 50311\, United States
CATEGORIES:Anniversary,Meeting
END:VEVENT
BEGIN:VEVENT
DTSTART;TZID=America/Chicago:20191019T180000
DTEND;TZID=America/Chicago:20191019T210000
DTSTAMP:20260423T124447
CREATED:20191006T135833Z
LAST-MODIFIED:20191006T135900Z
UID:3274-1571508000-1571518800@aadesmoines.org
SUMMARY:Mason City Clubhouse Spaghetti Dinner
DESCRIPTION:Spaghetti Dinner\nMason City Clubhouse\n207 8th Place SE\nMason City\, IA 50401\nSaturday\, October 19\, 2019\n6:00 p.m.\nProceeds will go to the MC Home Group\nPlease bring bread\, salads\, or desserts to share\n8:00 p.m. AA chip meeting\n8:00 p.m. – Al-Anon meeting\nsee attached flyer
URL:https://aadesmoines.org/event/mason-city-clubhouse-spaghetti-dinner/
LOCATION:Mason City Clubhouse\, 207 8th Place SE\, Mason City\, IA\, 50401\, United States
CATEGORIES:Meeting,Potluck/Picnic/BBQ
END:VEVENT
BEGIN:VEVENT
DTSTART;TZID=America/Chicago:20191019T170000
DTEND;TZID=America/Chicago:20191019T200000
DTSTAMP:20260423T124447
CREATED:20190917T142239Z
LAST-MODIFIED:20190917T142239Z
UID:3210-1571504400-1571515200@aadesmoines.org
SUMMARY:Boone Group's 74th Anniversary
DESCRIPTION:Boone Group’s 74th AnniversaryAnd Annual Fall Fellowship\n10/19/2019\nThe Zoo\n917 10th St.\nBoone\, IA 50036\nEat and Felllowship – 5 pm – 7 pm\nSpeaker Jill J. from Des Moines\, IA – 7 pm\nMeat and drinks provided\nBring a side dish or dessert\nsee attached flyer
URL:https://aadesmoines.org/event/boone-groups-74th-anniversary/
LOCATION:The Zoo\, 917 10th ST\, Boone\, IA\, 50036\, United States
CATEGORIES:Anniversary,Meeting,Potluck/Picnic/BBQ
END:VEVENT
BEGIN:VEVENT
DTSTART;TZID=America/Chicago:20191019T120000
DTEND;TZID=America/Chicago:20191019T170000
DTSTAMP:20260423T124447
CREATED:20190826T211648Z
LAST-MODIFIED:20190826T211648Z
UID:3135-1571486400-1571504400@aadesmoines.org
SUMMARY:Traditions! Not Just Something To Read Before Meetings! - Speaker Event
DESCRIPTION:Traditions! Not Just Something to Read Before Meetings!\nJoin us for a speaker event\nsponsored by Ames Intergroup\nSaturday\, October 19\, 2019\nat McCormick Clubhouse\n1201 McCormick Ave\nAmes\, IA\nDoors open at 12:00\nSpeakers start at 1:00\n$ 5.00 suggested donation\nRefreshments provided.\nTraditions in AA-Mike and Erica M\, Cedar Rapids\nHistory of Traditions-Bob McC\, Des Moines\nTraditions in the Home- John\, Sheila and Alyssa G\, Des Moines\nTraditions in the Workplace-Fauna and Mark N. Marshalltown
URL:https://aadesmoines.org/event/traditions-not-just-something-to-read-before-meetings-speaker-event/
LOCATION:McCormick Clubhouse\, 1201 McCormick Ave\, Ames\, IA\, 50010\, United States
CATEGORIES:Meeting,Workshop
END:VEVENT
BEGIN:VEVENT
DTSTART;TZID=America/Chicago:20191018T173000
DTEND;TZID=America/Chicago:20191018T200000
DTSTAMP:20260423T124447
CREATED:20191013T011635Z
LAST-MODIFIED:20191013T012017Z
UID:3290-1571419800-1571428800@aadesmoines.org
SUMMARY:Thursday Night Southside Step Study 23rd Annual Potluck
DESCRIPTION:Thursday Night Southside Step Study 23rd Annual Potluck  \nWHERE: Lutheran Church of the Good Shepherd \n3920 SW 9th St.\nDes Moines \n\nWHEN: Friday\, October 18\, 2019 \n5:30pm Doors Open \n6:00pm Dinner \n7:00pm Speakers and Raffle\n\n\nSPEAKERS: Alateen – Nora N. and Huck N. \nAl-Anon – Julie N. \nAA – DaAnn H.\n\n\nWHAT TO BRING: A dish to share\nADDITIONAL INFORMATION \n✶ Child care is provided.\n✶ Alateen will be selling pop and water. \n✶ Coffee & table service provided. \nThere will be a raffle held throughout the evening for various donated items.\n\n\nSee attached flyer
URL:https://aadesmoines.org/event/thursday-night-southside-step-study-23rd-annual-potluck/
LOCATION:Lutheran Church of the Good Shepherd\, 3920 SW 9th St\, Des Moines\, IA\, 50315\, United States
CATEGORIES:Meeting,Potluck/Picnic/BBQ
END:VEVENT
BEGIN:VEVENT
DTSTART;TZID=America/Chicago:20191012T173000
DTEND;TZID=America/Chicago:20191012T200000
DTSTAMP:20260423T124447
CREATED:20191003T201552Z
LAST-MODIFIED:20191003T201552Z
UID:3261-1570901400-1570910400@aadesmoines.org
SUMMARY:White House Chili Dinner
DESCRIPTION:Chili Dinner\nSat\, Oct 12th\, 2019\n5:30pm\nWhite House\n1400 Pennsylvania Ave.\nDes Moines.\, IA\nDinner ticket is only $5 and all proceeds\ngo to support The White House!\nStay and play bingo\, which starts at 7pm.\nAA meeting at 10:30pm.\nsee attached flyer
URL:https://aadesmoines.org/event/white-house-chili-dinner/
LOCATION:White House\, 1400 Pennsylvania Ave\, Des Moines\, IA\, 50316\, United States
CATEGORIES:Meeting,Potluck/Picnic/BBQ
END:VEVENT
BEGIN:VEVENT
DTSTART;TZID=America/Chicago:20191006T190000
DTEND;TZID=America/Chicago:20191006T210000
DTSTAMP:20260423T124447
CREATED:20190320T030509Z
LAST-MODIFIED:20190320T030509Z
UID:2833-1570388400-1570395600@aadesmoines.org
SUMMARY:Dexter Step Study Group
DESCRIPTION:
URL:https://aadesmoines.org/event/dexter-step-study-group-9/
LOCATION:Dexter United Methodist Church\, 1008 Polk St\, Dexter\, IA\, 50070\, United States
CATEGORIES:Meeting
END:VEVENT
BEGIN:VEVENT
DTSTART;TZID=America/Chicago:20191006T180000
DTEND;TZID=America/Chicago:20191006T200000
DTSTAMP:20260423T124447
CREATED:20190910T173328Z
LAST-MODIFIED:20190910T173328Z
UID:3162-1570384800-1570392000@aadesmoines.org
SUMMARY:Two Rivers Recovery Group 30th Anniversary
DESCRIPTION:
URL:https://aadesmoines.org/event/two-rivers-recovery-group-30th-anniversary/
LOCATION:Windsor United Methodist Church\, 6222 University Ave\, Des Moines\, IA\, 50311\, United States
CATEGORIES:Anniversary,Meeting
END:VEVENT
BEGIN:VEVENT
DTSTART;TZID=America/Chicago:20191005T170000
DTEND;TZID=America/Chicago:20191005T203000
DTSTAMP:20260423T124447
CREATED:20190730T031943Z
LAST-MODIFIED:20190730T031943Z
UID:3092-1570294800-1570307400@aadesmoines.org
SUMMARY:Come Have a Grillin' Good Time - Ames\, IA
DESCRIPTION:Come Have a Grillin’ Good Time\nHamburgers\, hot dogs\, brats\, salads\, and desserts\nSaturday\, October\, 5\, 2019\n1201 McCormick\nAmes\, IA\n\n5:00 p.m. – Doors Open\n5:30 p.m. – Supper Begins\n6:30 p.m. – Al-Anon speaker –  Timothy (Redd) V. – Mason City\, IA\n7:30 p.m. – AA Speaker – Andi O. – Ames\, IA\nSuggested Donation $7.00\nSee attached flyer
URL:https://aadesmoines.org/event/come-have-a-grillin-good-time-ames-ia/
LOCATION:1201 McCormick Dr\, 1201 McCormick Ave\, Ames\, IA\, 50010\, United States
CATEGORIES:Meeting,Potluck/Picnic/BBQ
END:VEVENT
BEGIN:VEVENT
DTSTART;TZID=America/Chicago:20191003T190000
DTEND;TZID=America/Chicago:20191003T210000
DTSTAMP:20260423T124447
CREATED:20190914T170509Z
LAST-MODIFIED:20190914T170509Z
UID:3189-1570129200-1570136400@aadesmoines.org
SUMMARY:There Is A Solution 29th Anniversary
DESCRIPTION:There is a Solution 29th Anniversary \nThursday\, October 3\, 2019 \nPeace Church\n6600 C Ave. NE\nCedar Rapids\, IA 52402 \n7:00 p.m. – Dinner \n8:00 p.m. – Program and Speaker \nLinda T. from Cedar Rapids\n \nsee attached flyer
URL:https://aadesmoines.org/event/there-is-a-solution-29th-anniversary/
LOCATION:Peace Church\, 6600 C Ave. NE\, Cedar Rapids\, IA\, 52402\, United States
CATEGORIES:Anniversary,Meeting
END:VEVENT
BEGIN:VEVENT
DTSTART;TZID=America/Chicago:20190930T183000
DTEND;TZID=America/Chicago:20190930T210000
DTSTAMP:20260423T124447
CREATED:20190914T170139Z
LAST-MODIFIED:20190914T170154Z
UID:3185-1569868200-1569877200@aadesmoines.org
SUMMARY:Forest City Unity Group - Chip Night
DESCRIPTION:Come join us for food fellowship and fun! \nForest City Unity Group\n135 East J Street\nForest City\, IA \nFor a Potluck\, speaker and chip night\nPlease bring a dish or desert to share and come hear\nNan D from Ft Dodge share her experience\, strength with us!\nSeptember 30th \nThe potluck starts at 6:30pm\nSpeaker and chip night start \nat 7:30pm \nSee attached flyer
URL:https://aadesmoines.org/event/3185/
LOCATION:Forest City Unity Group\, 135 East J St\, Forest City\, IA\, 50436\, United States
CATEGORIES:Birthday,Meeting,Potluck/Picnic/BBQ
END:VEVENT
BEGIN:VEVENT
DTSTART;TZID=America/Chicago:20190928T173000
DTEND;TZID=America/Chicago:20190928T200000
DTSTAMP:20260423T124447
CREATED:20190917T142553Z
LAST-MODIFIED:20190923T212752Z
UID:3211-1569691800-1569700800@aadesmoines.org
SUMMARY:New Hope Group Creston - 39th Annversary
DESCRIPTION:New Hope Group 39th Annversary\nSpeaker Potluck\n9/28/2019\nUnited Methodist Church\n400 N. Elm\nCreston\, IA\nSocial Hour 5:30 pm\nEat at 6:00 pm\nRaffle after dinner\nSpeakers Wayne C. and Amanda D from Winterset\nPlease bring a dish to share and\nan item to donate to raffle. \nSee attached flyer
URL:https://aadesmoines.org/event/new-hope-group-creston-39th-annversary/
LOCATION:United Methodist Church – Creston\, 400 N Elm\, Creston\, IA\, 50801\, United States
CATEGORIES:Anniversary,Meeting,Potluck/Picnic/BBQ
END:VEVENT
BEGIN:VEVENT
DTSTART;TZID=America/Chicago:20190926T170000
DTEND;TZID=America/Chicago:20190929T120000
DTSTAMP:20260423T124447
CREATED:20190412T214507Z
LAST-MODIFIED:20190908T161539Z
UID:2892-1569517200-1569758400@aadesmoines.org
SUMMARY:76th Annual White House Conference
DESCRIPTION:Thursday\, September 26 – Sunday\, September 29th \nRegistration $30 (includes meals)\nPre-register by September 13th\, $40 after
URL:https://aadesmoines.org/event/76th-annual-white-house-conference/
LOCATION:White House\, 1400 Pennsylvania Ave\, Des Moines\, IA\, 50316\, United States
CATEGORIES:Conference,Meeting
END:VEVENT
BEGIN:VEVENT
DTSTART;TZID=America/Chicago:20190922T180000
DTEND;TZID=America/Chicago:20190922T200000
DTSTAMP:20260423T124447
CREATED:20190917T142017Z
LAST-MODIFIED:20190917T142017Z
UID:3209-1569175200-1569182400@aadesmoines.org
SUMMARY:Ames Grapeviners Anniversary
DESCRIPTION:Ames Grapeviners Anniversary\nSunday 9/22/2019\nSt. John’s Episcopal Church\n2338 Lincoln Way\nAmes\, IA\nPotluck @ 6:00 pm.\nSpeaker (TBA) @ 7:00 p.m.\nPlease bring a side dish and/or dessert to share.\nMain dish provided.\nsee attached flyer
URL:https://aadesmoines.org/event/ames-grapeviners-anniversary/
LOCATION:St. John’s by the Campus Episcopal Church of Ames\, 2338 Lincoln Way\, Ames\, IA\, 50014\, United States
CATEGORIES:Anniversary,Meeting,Potluck/Picnic/BBQ
END:VEVENT
BEGIN:VEVENT
DTSTART;TZID=America/Chicago:20190921T140000
DTEND;TZID=America/Chicago:20190921T160000
DTSTAMP:20260423T124447
CREATED:20190910T173640Z
LAST-MODIFIED:20190910T173640Z
UID:3156-1569074400-1569081600@aadesmoines.org
SUMMARY:Sobriety Birthday Celebration w/ AA Speaker (Carrie E)
DESCRIPTION:Help Carrie E Celebrate\n20 Years Sober! \nSeptember 21\, 2019\, 2-4pm\nUnity Center\n414 31st Street \n2:00 Cookies & Fellowship\n2:30 Special Music:\nSylvia & Cam \nA.A. Speakers:\nFrancis W. – Des Moines\nMichael B. – Des Moines \n3:30 Chip:\nBrit V. & Carrie E. \nSee attached flyer
URL:https://aadesmoines.org/event/sobriety-birthday-celebration-w-aa-speaker-carrie-e/
LOCATION:Unity Church of Des Moines\, 414 31st ST\, Des Moines\, IA\, 50312\, United States
CATEGORIES:Birthday,Meeting
END:VEVENT
BEGIN:VEVENT
DTSTART;TZID=America/Chicago:20190921T090000
DTEND;TZID=America/Chicago:20190921T110000
DTSTAMP:20260423T124447
CREATED:20190913T234710Z
LAST-MODIFIED:20190913T235100Z
UID:3175-1569056400-1569063600@aadesmoines.org
SUMMARY:Newton Breakfast Potluck
DESCRIPTION:Newton Breakfast Potluck\nSaturday – 9/21/2019\n9:00 a.m. – Breakfast Potluck\n10:00 a.m. – Speakers  – Bryan D. & Chris S. from Des Moines\nSt. Stephens Church\n223 E. 4th St. N.\nNewton\, IA 50208\n\nsee attached flyer
URL:https://aadesmoines.org/event/newton-breakfast-potluck/
LOCATION:St. Stephen’s Episcopal Church\, 223 E 4th ST N\, Newton\, IA\, 50208\, United States
CATEGORIES:Meeting,Potluck/Picnic/BBQ
END:VEVENT
BEGIN:VEVENT
DTSTART;TZID=America/Chicago:20190903T190000
DTEND;TZID=America/Chicago:20190903T210000
DTSTAMP:20260423T124447
CREATED:20190826T212212Z
LAST-MODIFIED:20190826T212212Z
UID:3137-1567537200-1567544400@aadesmoines.org
SUMMARY:The Full Support Women's Group 33rd Anniversary
DESCRIPTION:You’re invited to\nThe Full Support Women’s Group 33rd Anniversary!!\nThe Speaker will be Ashley O.\n• When: September 3\, 2019\n• Where: St. Johns 2338 Lincoln way\, Ames Ia. 50010\n• What we are serving for dessert: Root beer Floats 6pm\n• Speaker will speak at 7pm\n• Baby sitting available\n• Men are welcome\n\n\nSee attached flyer
URL:https://aadesmoines.org/event/the-full-support-womens-group-33rd-anniversary/
LOCATION:St. John’s by the Campus Episcopal Church of Ames\, 2338 Lincoln Way\, Ames\, IA\, 50014\, United States
CATEGORIES:Anniversary,Meeting
END:VEVENT
BEGIN:VEVENT
DTSTART;TZID=America/Chicago:20190903T080000
DTEND;TZID=America/Chicago:20190903T170000
DTSTAMP:20260423T124447
CREATED:20190903T212640Z
LAST-MODIFIED:20190903T212640Z
UID:3148-1567497600-1567530000@aadesmoines.org
SUMMARY:Newton Breakfast Potluck - September
DESCRIPTION:Newton Breakfast Potluck\nSaturday – 9/21/2019\n9:00 a.m. – Breakfast Potluck\n10:00 a.m. – Speakers – Brian D and Chris S\nSt. Stephens Church\n223 E. 4th St. N.\nNewton\, IA 50208 \nsee attached flyer
URL:https://aadesmoines.org/event/newton-breakfast-potluck-september/
LOCATION:St. Stephen’s Episcopal Church\, 223 E 4th ST N\, Newton\, IA\, 50208\, United States
CATEGORIES:Meeting,Potluck/Picnic/BBQ
END:VEVENT
BEGIN:VEVENT
DTSTART;TZID=America/Chicago:20190902T113000
DTEND;TZID=America/Chicago:20190902T140000
DTSTAMP:20260423T124447
CREATED:20190817T194425Z
LAST-MODIFIED:20190817T194425Z
UID:3127-1567423800-1567432800@aadesmoines.org
SUMMARY:Ames Intergroup Labor Day Picnic
DESCRIPTION:Ames Intergroup\nLabor Day Picnic\nMonday\, September 2\, 2019\n11:30am – 2pm\n2500 Duff Ave\nAmes\, IA\nInis Grove\, Shagbark Shelter\nGrilling: 11:30am unch: 12:00pm\nSpeaker: 1:00pm\nKelly M\, Ames\, IA\nPlease bring meat to grill\, and a Side dish and/or dessert to share. \nSee attached flyer
URL:https://aadesmoines.org/event/ames-intergroup-labor-day-picnic/
LOCATION:Inis Grove Park\, 2500 Duff Ave\, Ames\, IA\, 50010\, United States
CATEGORIES:Meeting,Potluck/Picnic/BBQ
END:VEVENT
BEGIN:VEVENT
DTSTART;TZID=America/Chicago:20190901T190000
DTEND;TZID=America/Chicago:20190901T210000
DTSTAMP:20260423T124447
CREATED:20190320T030505Z
LAST-MODIFIED:20190320T031015Z
UID:2832-1567364400-1567371600@aadesmoines.org
SUMMARY:Dexter Step Study Group
DESCRIPTION:Step 9 Speaker – Doug K \nDexter Step Study Group Speakers Flyer
URL:https://aadesmoines.org/event/dexter-step-study-group-8/
LOCATION:Dexter United Methodist Church\, 1008 Polk St\, Dexter\, IA\, 50070\, United States
CATEGORIES:Meeting
END:VEVENT
BEGIN:VEVENT
DTSTART;TZID=America/Chicago:20190825T190000
DTEND;TZID=America/Chicago:20190825T210000
DTSTAMP:20260423T124447
CREATED:20190815T163018Z
LAST-MODIFIED:20190815T163018Z
UID:3110-1566759600-1566766800@aadesmoines.org
SUMMARY:Wall Lake AA Group 2 Year Anniversary
DESCRIPTION:7pm speaker (Tricia) with Ice Cream Social to Follow \nSee attached flyer
URL:https://aadesmoines.org/event/wall-lake-aa-group-2-year-anniversary/
LOCATION:Wall Lake City Shelter House\, 4th and Stuart ST\, Wall Lake\, IA\, 51466\, United States
CATEGORIES:Anniversary,Meeting
END:VEVENT
BEGIN:VEVENT
DTSTART;TZID=America/Chicago:20190817T090000
DTEND;TZID=America/Chicago:20190817T110000
DTSTAMP:20260423T124447
CREATED:20190815T163622Z
LAST-MODIFIED:20190815T163622Z
UID:3114-1566032400-1566039600@aadesmoines.org
SUMMARY:Newton Breakfast Potluck - August
DESCRIPTION:Newton Breakfast Potluck\nSaturday – 8/17/2019\n9:00 a.m. – Breakfast Potluck\n10:00 a.m. – Speakers – Kelly S. & Dani O.\nSt. Stephens Church\n223 E. 4th St. N.\nNewton\, IA 50208\nsee attached flyer
URL:https://aadesmoines.org/event/newton-breakfast-potluck-august/
LOCATION:St. Stephen’s Episcopal Church\, 223 E 4th ST N\, Newton\, IA\, 50208\, United States
CATEGORIES:Meeting,Potluck/Picnic/BBQ
END:VEVENT
BEGIN:VEVENT
DTSTART;TZID=America/Chicago:20190804T190000
DTEND;TZID=America/Chicago:20190804T210000
DTSTAMP:20260423T124447
CREATED:20190320T030505Z
LAST-MODIFIED:20190320T030942Z
UID:2831-1564945200-1564952400@aadesmoines.org
SUMMARY:Dexter Step Study Group
DESCRIPTION:Step 8 Speaker – Catherine H \nDexter Step Study Group Speakers Flyer
URL:https://aadesmoines.org/event/dexter-step-study-group-7/
LOCATION:Dexter United Methodist Church\, 1008 Polk St\, Dexter\, IA\, 50070\, United States
CATEGORIES:Meeting
END:VEVENT
BEGIN:VEVENT
DTSTART;TZID=America/Chicago:20190803T173000
DTEND;TZID=America/Chicago:20190803T233000
DTSTAMP:20260423T124447
CREATED:20190610T024005Z
LAST-MODIFIED:20190610T024005Z
UID:2996-1564853400-1564875000@aadesmoines.org
SUMMARY:White House's Annual Beef\, Corn & Tomato Feed
DESCRIPTION:White House’s Annual George Richards\nBeef\, Corn & Tomato Feed\nSaturday\, August 3rd at 5:30pm \n$12 per person. Bingo to follow with a $300 consolation prize with dinner ticket! \nAA meeting at 10:30pm\nYard Sale will also be open! \nSee attached flyer
URL:https://aadesmoines.org/event/white-houses-annual-beef-corn-tomato-feed/
LOCATION:White House\, 1400 Pennsylvania Ave\, Des Moines\, IA\, 50316\, United States
CATEGORIES:Meeting,Potluck/Picnic/BBQ
END:VEVENT
BEGIN:VEVENT
DTSTART;TZID=America/Chicago:20190727T170000
DTEND;TZID=America/Chicago:20190727T210000
DTSTAMP:20260423T124447
CREATED:20190710T173343Z
LAST-MODIFIED:20190710T173343Z
UID:3065-1564246800-1564261200@aadesmoines.org
SUMMARY:Cedar Rapids Foxhall 19th Anniversary
DESCRIPTION:Cedar Rapids Foxhall 19th Anniversary \nUnity Center\n3791 Blairs Ferry Rd NE\nCedar Rapids\, IA 52402 \nSaturday 7/27/2019 \nSpeaker is Rob H from Dallas Center\, IA \nBarbecue themed dinner\n5pm-9pm
URL:https://aadesmoines.org/event/cedar-rapids-foxhall-19th-anniversary/
LOCATION:Cedar Rapids Unity Center\, 3791 Blairs Ferry Rd NE\, Cedar Rapids\, IA\, 52402\, United States
CATEGORIES:Anniversary,Meeting,Potluck/Picnic/BBQ
END:VEVENT
BEGIN:VEVENT
DTSTART;TZID=America/Chicago:20190724T060000
DTEND;TZID=America/Chicago:20190724T080000
DTSTAMP:20260423T124447
CREATED:20190705T191541Z
LAST-MODIFIED:20190705T191541Z
UID:3057-1563948000-1563955200@aadesmoines.org
SUMMARY:Breakfast Club 21st Anniversary
DESCRIPTION:The Breakfast Club 21st Anniversary \nJuly 24\, 2019\nFaith Lutheran Church\n10395 University Ave\nClive\, IA \n6 am Breakfast\n6:30 Speaker Patrick D. Des Moines \nMenu:\nBlueberry Pancakes\, Sausage\, Hashbrowns\, Doughnuts\, Fruit\, Milk\, Juice and Coffee \nSee attached flyer
URL:https://aadesmoines.org/event/breakfast-club-21st-anniversary/
LOCATION:Faith Lutheran Church – Clive\, 10395 University Ave\, Clive\, IA\, 50325\, United States
CATEGORIES:Anniversary,Meeting
END:VEVENT
END:VCALENDAR