BEGIN:VCALENDAR
VERSION:2.0
PRODID:-//AA Des Moines - ECPv6.15.20//NONSGML v1.0//EN
CALSCALE:GREGORIAN
METHOD:PUBLISH
X-WR-CALNAME:AA Des Moines
X-ORIGINAL-URL:https://aadesmoines.org
X-WR-CALDESC:Events for AA Des Moines
REFRESH-INTERVAL;VALUE=DURATION:PT1H
X-Robots-Tag:noindex
X-PUBLISHED-TTL:PT1H
BEGIN:VTIMEZONE
TZID:America/Chicago
BEGIN:DAYLIGHT
TZOFFSETFROM:-0600
TZOFFSETTO:-0500
TZNAME:CDT
DTSTART:20180311T080000
END:DAYLIGHT
BEGIN:STANDARD
TZOFFSETFROM:-0500
TZOFFSETTO:-0600
TZNAME:CST
DTSTART:20181104T070000
END:STANDARD
BEGIN:DAYLIGHT
TZOFFSETFROM:-0600
TZOFFSETTO:-0500
TZNAME:CDT
DTSTART:20190310T080000
END:DAYLIGHT
BEGIN:STANDARD
TZOFFSETFROM:-0500
TZOFFSETTO:-0600
TZNAME:CST
DTSTART:20191103T070000
END:STANDARD
BEGIN:DAYLIGHT
TZOFFSETFROM:-0600
TZOFFSETTO:-0500
TZNAME:CDT
DTSTART:20200308T080000
END:DAYLIGHT
BEGIN:STANDARD
TZOFFSETFROM:-0500
TZOFFSETTO:-0600
TZNAME:CST
DTSTART:20201101T070000
END:STANDARD
END:VTIMEZONE
BEGIN:VEVENT
DTSTART;TZID=America/Chicago:20191225T120000
DTEND;TZID=America/Chicago:20191225T160000
DTSTAMP:20260423T074044
CREATED:20191206T030113Z
LAST-MODIFIED:20191206T030113Z
UID:4564-1577275200-1577289600@aadesmoines.org
SUMMARY:Christmas Dinner at the White House
DESCRIPTION:Wednesday December 25th \n12pm \nPlease bring a side dish or dessert to share\, main dish will be provided \nDon’t spend Christmas Day alone\, come join us! \nChristmas Dinner Flyer 2019
URL:https://aadesmoines.org/event/christmas-dinner-at-the-white-house/
LOCATION:White House\, 1400 Pennsylvania Ave\, Des Moines\, IA\, 50316\, United States
CATEGORIES:Group Event,Potluck/Picnic/BBQ
END:VEVENT
BEGIN:VEVENT
DTSTART;TZID=America/Chicago:20191222T170000
DTEND;TZID=America/Chicago:20191222T190000
DTSTAMP:20260423T074044
CREATED:20191205T032442Z
LAST-MODIFIED:20191205T032442Z
UID:4541-1577034000-1577041200@aadesmoines.org
SUMMARY:F&G Christmas Party
DESCRIPTION:F & G Christmas Party\nSunday 12/22/2019\n5:00 p.m. – 7:00 p.m.\nPizza & Pop\nChristmas Goodies\nF & G\n315 E. 5th Street\nLower Level\nDes Moines\, IA 50309-1925\n\nsee attached flyer
URL:https://aadesmoines.org/event/fg-christmas-party/
LOCATION:F&G\, 315 East 5th St\, Des Moines\, IA\, 50309\, United States
CATEGORIES:Group Event
END:VEVENT
BEGIN:VEVENT
DTSTART;TZID=America/Chicago:20191219T180000
DTEND;TZID=America/Chicago:20191219T210000
DTSTAMP:20260423T074044
CREATED:20191205T034442Z
LAST-MODIFIED:20191205T035157Z
UID:4557-1576778400-1576789200@aadesmoines.org
SUMMARY:Foxhall Holiday Party
DESCRIPTION:Foxhall Holiday Party \nDecember 19\, 2019 \nDinner at 6pm \nMeeting at 7:30pm \nSpeaker Stacy P @ 8pm \nPlease bring a side dish to share
URL:https://aadesmoines.org/event/foxhall-holiday-party/
LOCATION:First United Methodist Church\, 1001 Pleasant St\, Des Moines\, IA\, 50309\, United States
CATEGORIES:Group Event,Meeting,Potluck/Picnic/BBQ
END:VEVENT
BEGIN:VEVENT
DTSTART;TZID=America/Chicago:20191218T173000
DTEND;TZID=America/Chicago:20191218T190000
DTSTAMP:20260423T074044
CREATED:20191211T004753Z
LAST-MODIFIED:20191211T004753Z
UID:4742-1576690200-1576695600@aadesmoines.org
SUMMARY:The Deal’s Annual Chili Feed and Potluck
DESCRIPTION:Chili\, Bowls\, Spoons and Napkins provided! \nPlease bring a side dish or dessert to share. \nDecember 18th from 5:30p to 7:00p \nEveryone is welcome
URL:https://aadesmoines.org/event/the-deals-annual-chili-feed-and-potluck/
LOCATION:White House\, 1400 Pennsylvania Ave\, Des Moines\, IA\, 50316\, United States
CATEGORIES:Group Event,Potluck/Picnic/BBQ
END:VEVENT
BEGIN:VEVENT
DTSTART;TZID=America/Chicago:20191214T170000
DTEND;TZID=America/Chicago:20191214T210000
DTSTAMP:20260423T074044
CREATED:20191025T190915Z
LAST-MODIFIED:20191025T190915Z
UID:3302-1576342800-1576357200@aadesmoines.org
SUMMARY:White House Presents: The Polar Express Pajama Party with Santa!
DESCRIPTION:The Polar Express Pajama Party with Santa! \nSATURDAY DECEMBER 14TH \nTHE WHITE HOUSE: 1400 PENNSYLVANIA AVE \nTickets: $5 \nEvent Schedule:\nDINNER – 5:00PM\nSANTA PICTURES – 5:30PM\nSTORY READING – 6:30PM\nMOVIE SHOWING – 7:00PM \n**To register your child to receive a FREE gift from Santa\, please contact Jenn Cosby at 515-689-6818 by November 27th** Pajamas for the whole family are encouraged \nsee attached flyer
URL:https://aadesmoines.org/event/white-house-presents-the-polar-express-pajama-party-with-santa/
LOCATION:White House\, 1400 Pennsylvania Ave\, Des Moines\, IA\, 50316\, United States
CATEGORIES:Group Event
END:VEVENT
BEGIN:VEVENT
DTSTART;TZID=America/Chicago:20191128T120000
DTEND;TZID=America/Chicago:20191128T120000
DTSTAMP:20260423T074044
CREATED:20191025T191234Z
LAST-MODIFIED:20191025T191234Z
UID:3305-1574942400-1574942400@aadesmoines.org
SUMMARY:White House Presents: Thanksgiving Dinner
DESCRIPTION:Join us for a delicious traditional dinner at the White House on Thanksgiving Day. Please bring a side dish or dessert to share. Dinner will be served at noon. \nsee attached flyer
URL:https://aadesmoines.org/event/white-house-presents-thanksgiving-dinner/
LOCATION:White House\, 1400 Pennsylvania Ave\, Des Moines\, IA\, 50316\, United States
CATEGORIES:Group Event,Potluck/Picnic/BBQ
END:VEVENT
BEGIN:VEVENT
DTSTART;TZID=America/Chicago:20191026T173000
DTEND;TZID=America/Chicago:20191026T200000
DTSTAMP:20260423T074044
CREATED:20191012T131008Z
LAST-MODIFIED:20191012T131008Z
UID:3279-1572111000-1572120000@aadesmoines.org
SUMMARY:F&G Movie Night - October
DESCRIPTION:F & G Movie Night\nSaturday October 26\, 2019\n5:30 p.m.\nLeaving Las Vegas\nStarring: Nicolas Cage\nFree Popcorn\, Lemonade and Coffee\n\nsee attached flyer
URL:https://aadesmoines.org/event/fg-movie-night-october/
LOCATION:F&G\, 315 East 5th St\, Des Moines\, IA\, 50309\, United States
CATEGORIES:Group Event
END:VEVENT
BEGIN:VEVENT
DTSTART;TZID=America/Chicago:20190928T163000
DTEND;TZID=America/Chicago:20190928T180000
DTSTAMP:20260423T074044
CREATED:20190914T000018Z
LAST-MODIFIED:20190914T000404Z
UID:3179-1569688200-1569693600@aadesmoines.org
SUMMARY:F & G Movie Night - September
DESCRIPTION:F & G Movie Night \nSaturday September 28\, 2019 \n4:30 p.m. \nDon’t Worry He Won’t Get Far on Foot \nStaring: Joaquin Phoenix \nFree Popcorn\, Lemonade and Coffee \nsee attached flyer
URL:https://aadesmoines.org/event/f-g-movie-night-september/
LOCATION:F&G\, 315 East 5th St\, Des Moines\, IA\, 50309\, United States
CATEGORIES:Group Event
END:VEVENT
END:VCALENDAR