BEGIN:VCALENDAR
VERSION:2.0
PRODID:-//AA Des Moines - ECPv6.15.20//NONSGML v1.0//EN
CALSCALE:GREGORIAN
METHOD:PUBLISH
X-ORIGINAL-URL:https://aadesmoines.org
X-WR-CALDESC:Events for AA Des Moines
REFRESH-INTERVAL;VALUE=DURATION:PT1H
X-Robots-Tag:noindex
X-PUBLISHED-TTL:PT1H
BEGIN:VTIMEZONE
TZID:America/Chicago
BEGIN:DAYLIGHT
TZOFFSETFROM:-0600
TZOFFSETTO:-0500
TZNAME:CDT
DTSTART:20180311T080000
END:DAYLIGHT
BEGIN:STANDARD
TZOFFSETFROM:-0500
TZOFFSETTO:-0600
TZNAME:CST
DTSTART:20181104T070000
END:STANDARD
BEGIN:DAYLIGHT
TZOFFSETFROM:-0600
TZOFFSETTO:-0500
TZNAME:CDT
DTSTART:20190310T080000
END:DAYLIGHT
BEGIN:STANDARD
TZOFFSETFROM:-0500
TZOFFSETTO:-0600
TZNAME:CST
DTSTART:20191103T070000
END:STANDARD
BEGIN:DAYLIGHT
TZOFFSETFROM:-0600
TZOFFSETTO:-0500
TZNAME:CDT
DTSTART:20200308T080000
END:DAYLIGHT
BEGIN:STANDARD
TZOFFSETFROM:-0500
TZOFFSETTO:-0600
TZNAME:CST
DTSTART:20201101T070000
END:STANDARD
END:VTIMEZONE
BEGIN:VEVENT
DTSTART;TZID=America/Chicago:20190705T170000
DTEND;TZID=America/Chicago:20190707T110000
DTSTAMP:20260423T074202
CREATED:20190120T192409Z
LAST-MODIFIED:20190120T221517Z
UID:2280-1562346000-1562497200@aadesmoines.org
SUMMARY:IAYPAA IV Conference
DESCRIPTION:Sunlight of the Spirit – IAYPAA IV \nIAYPAA IV Flyer
URL:https://aadesmoines.org/event/iaypaa-iv-conference/
LOCATION:Double Tree Hotel\, 350 1st Ave NE\, Cedar Rapids\, IA\, 52401\, United States
CATEGORIES:Conference
END:VEVENT
BEGIN:VEVENT
DTSTART;TZID=America/Chicago:20190607T120000
DTEND;TZID=America/Chicago:20190609T120000
DTSTAMP:20260423T074202
CREATED:20190120T192409Z
LAST-MODIFIED:20190319T123542Z
UID:2278-1559908800-1560081600@aadesmoines.org
SUMMARY:Area 24 Spring Conference
DESCRIPTION:Keys to the Kingdom – Spring Conference Area 24 \nArea 24 Spring Conference Flyer
URL:https://aadesmoines.org/event/area-24-spring-conference/
LOCATION:Grinnell College\, 1115 8th Ave\, Grinnell\, IA\, 50112\, United States
CATEGORIES:Committee Meetings,Conference
END:VEVENT
BEGIN:VEVENT
DTSTART;TZID=America/Chicago:20190412T170000
DTEND;TZID=America/Chicago:20190414T000000
DTSTAMP:20260423T074202
CREATED:20190402T024708Z
LAST-MODIFIED:20190402T024708Z
UID:2877-1555088400-1555200000@aadesmoines.org
SUMMARY:2019 Metro Spring Anniversary
DESCRIPTION:2019 Metro Spring Anniversary\n\nFriday 4/12 – Saturday 4/13/2019\nU.A.W. Hall\n2615 Washington Street\nWaterloo\, IA 50702\nsee attached flyer\n\nSpring Anniversary Flyer
URL:https://aadesmoines.org/event/2019-metro-spring-anniversary/
LOCATION:UAW Hall\, 2615 Washington St\, Waterloo\, IA\, 50702\, United States
CATEGORIES:Anniversary,Conference
END:VEVENT
BEGIN:VEVENT
DTSTART;TZID=America/Chicago:20190329T200000
DTEND;TZID=America/Chicago:20190331T110000
DTSTAMP:20260423T074202
CREATED:20190120T192407Z
LAST-MODIFIED:20190303T175916Z
UID:2275-1553889600-1554030000@aadesmoines.org
SUMMARY:Aim For Ames
DESCRIPTION:Preregister by 3/18/2019 \nAim for Ames Flyer \nAim for Ames Round-Up Big Book Trivia Flyer
URL:https://aadesmoines.org/event/aim-for-ames/
LOCATION:Quality Inn & Suites\, 2601 E 13th ST\, Ames\, IA\, 50010\, United States
CATEGORIES:Conference
END:VEVENT
BEGIN:VEVENT
DTSTART;TZID=America/Chicago:20190301T170000
DTEND;TZID=America/Chicago:20190303T110000
DTSTAMP:20260423T074202
CREATED:20190120T192407Z
LAST-MODIFIED:20190120T221230Z
UID:2274-1551459600-1551610800@aadesmoines.org
SUMMARY:Sioux City Tri State Roundup
DESCRIPTION:Pregistration must be received by 2/1/2019 \nSioux City Tri State Roundup Flyer
URL:https://aadesmoines.org/event/sioux-city-tri-state-roundup/
LOCATION:Hilton Garden Inn\, 1132 Larsen Park\, Sioux City\, IA\, 51103\, United States
CATEGORIES:Conference
END:VEVENT
BEGIN:VEVENT
DTSTART;TZID=America/Chicago:20190216T133000
DTEND;TZID=America/Chicago:20190216T220000
DTSTAMP:20260423T074202
CREATED:20190208T200150Z
LAST-MODIFIED:20190305T232025Z
UID:2615-1550323800-1550354400@aadesmoines.org
SUMMARY:22nd Annual Midwinter Blast
DESCRIPTION:1:30 p.m. – Registration Opens\n2:30 p.m. – Al-Anon Speaker – Libby W. from Spencer\, IA\n4:00 p.m. – AA Speaker – John K. from Mankato\, MN\n5:00 p.m. – Supper (Chili & Pork Sandwiches )\n6:00 p.m. – Door Prize Drawings\n6:30 p.m. – Al-Anon Speaker – Mike M. from Manson\, IA\n8:00 p.m. – AA Speaker – Kevin P. from Ledyard\, IA\n9:00 p.m. – Ice Cream Social\nSpeakers and Supper – $10.00\nIce Cream Social – $2.00  \n22nd Annual Midwinter Blast Flyer
URL:https://aadesmoines.org/event/22nd-annual-midwinter-blast/
LOCATION:Allee Building\, North Main St\, Newell\, IA\, 50568\, United States
CATEGORIES:Conference
END:VEVENT
BEGIN:VEVENT
DTSTART;TZID=America/Chicago:20190215T180000
DTEND;TZID=America/Chicago:20190217T110000
DTSTAMP:20260423T074202
CREATED:20190120T192407Z
LAST-MODIFIED:20190120T221124Z
UID:2272-1550253600-1550401200@aadesmoines.org
SUMMARY:25th Annual Cedar River Roundup
DESCRIPTION:Mail in and online registration deadline 2/9/2019 \nCedar River Roundup 2019 Flyer
URL:https://aadesmoines.org/event/25th-annual-cedar-river-roundup/
LOCATION:Cedar Rapids Marriott Hotel\, 1200 Collins Rd NE\, Cedar Rapids\, IA\, 52402\, United States
CATEGORIES:Conference
END:VEVENT
BEGIN:VEVENT
DTSTART;TZID=America/Chicago:20190119T100000
DTEND;TZID=America/Chicago:20190120T110000
DTSTAMP:20260423T074202
CREATED:20190120T060550Z
LAST-MODIFIED:20190120T221029Z
UID:2248-1547892000-1547982000@aadesmoines.org
SUMMARY:Fort Dodge Winter Rally
DESCRIPTION:Annual Fort Dodge Winter Rally 2019 – $18 Preregistration\, $20 at the door \nFort Dodge Winter Rally 2019 Flyer \n 
URL:https://aadesmoines.org/event/winter-rally/
LOCATION:Starlite Village Best Western\, 1518 3rd Ave NW\, Fort Dodge\, IA\, 50501\, United States
CATEGORIES:Conference
END:VEVENT
END:VCALENDAR