BEGIN:VCALENDAR
VERSION:2.0
PRODID:-//AA Des Moines - ECPv6.15.20//NONSGML v1.0//EN
CALSCALE:GREGORIAN
METHOD:PUBLISH
X-WR-CALNAME:AA Des Moines
X-ORIGINAL-URL:https://aadesmoines.org
X-WR-CALDESC:Events for AA Des Moines
REFRESH-INTERVAL;VALUE=DURATION:PT1H
X-Robots-Tag:noindex
X-PUBLISHED-TTL:PT1H
BEGIN:VTIMEZONE
TZID:America/Chicago
BEGIN:DAYLIGHT
TZOFFSETFROM:-0600
TZOFFSETTO:-0500
TZNAME:CDT
DTSTART:20180311T080000
END:DAYLIGHT
BEGIN:STANDARD
TZOFFSETFROM:-0500
TZOFFSETTO:-0600
TZNAME:CST
DTSTART:20181104T070000
END:STANDARD
BEGIN:DAYLIGHT
TZOFFSETFROM:-0600
TZOFFSETTO:-0500
TZNAME:CDT
DTSTART:20190310T080000
END:DAYLIGHT
BEGIN:STANDARD
TZOFFSETFROM:-0500
TZOFFSETTO:-0600
TZNAME:CST
DTSTART:20191103T070000
END:STANDARD
BEGIN:DAYLIGHT
TZOFFSETFROM:-0600
TZOFFSETTO:-0500
TZNAME:CDT
DTSTART:20200308T080000
END:DAYLIGHT
BEGIN:STANDARD
TZOFFSETFROM:-0500
TZOFFSETTO:-0600
TZNAME:CST
DTSTART:20201101T070000
END:STANDARD
BEGIN:DAYLIGHT
TZOFFSETFROM:-0600
TZOFFSETTO:-0500
TZNAME:CDT
DTSTART:20210314T080000
END:DAYLIGHT
BEGIN:STANDARD
TZOFFSETFROM:-0500
TZOFFSETTO:-0600
TZNAME:CST
DTSTART:20211107T070000
END:STANDARD
END:VTIMEZONE
BEGIN:VEVENT
DTSTART;TZID=America/Chicago:20200307T180000
DTEND;TZID=America/Chicago:20200307T213000
DTSTAMP:20260423T080848
CREATED:20200206T024150Z
LAST-MODIFIED:20200206T024150Z
UID:8295-1583604000-1583616600@aadesmoines.org
SUMMARY:Des Moines IAYPAA Bid presents Sober Soiree
DESCRIPTION:
URL:https://aadesmoines.org/event/des-moines-iaypaa-bid-presents-sober-soiree/
LOCATION:7305 Aurora Ave\, 7305 Aurora Ave\, Urbandale\, IA\, United States
CATEGORIES:Conference Pre Event
END:VEVENT
BEGIN:VEVENT
DTSTART;TZID=America/Chicago:20200202T153000
DTEND;TZID=America/Chicago:20200202T213000
DTSTAMP:20260423T080848
CREATED:20200117T221400Z
LAST-MODIFIED:20200117T221400Z
UID:7833-1580657400-1580679000@aadesmoines.org
SUMMARY:IAYPAA Host Presents Sober Bowl
DESCRIPTION:The IAYPAA HOST Committee presents\nSober Bowl\nSunday February 2\, 2020\n3:30 pm – 9:30 pm\nOur Redeemer Lutheran Church\n2301 E Court St.\nIowa City\, IA 52245\nPotluck\nSpeaker before kickoff\nSuper Bowl Bingo\n50/50 Raffle\n$5 suggested donation\nOpen for families\nsee attached flyer
URL:https://aadesmoines.org/event/iaypaa-host-presents-sober-bowl/
LOCATION:Our Redeemer Lutheran Church\, 2301 E Court St\, Iowa City\, IA\, 52245\, United States
CATEGORIES:Conference Pre Event,Meeting,Potluck/Picnic/BBQ
END:VEVENT
BEGIN:VEVENT
DTSTART;TZID=America/Chicago:20191025T180000
DTEND;TZID=America/Chicago:20191025T233000
DTSTAMP:20260423T080848
CREATED:20191012T131709Z
LAST-MODIFIED:20191012T131930Z
UID:3284-1572026400-1572046200@aadesmoines.org
SUMMARY:Des Moines Bid for IAYPAA 6 - Octoberfest 2019
DESCRIPTION:IAYPAA OctoberFest 2019\nOctober 25\, 2019\nWhite House\n1400 Pennsylvania Ave\,\nDes Moines IA 50316\nDinner 6 pm: Hamburgers & Hot Dogs\nSpeaker 7 pm: Brent B.\n8 pm: 50/50 Raffle\n8:30 pm: Costume Contest\n\n10 pm: Dance\n\nsee attached flyer
URL:https://aadesmoines.org/event/des-moines-bid-for-iaypaa-6-octoberfest-2019/
LOCATION:White House\, 1400 Pennsylvania Ave\, Des Moines\, IA\, 50316\, United States
CATEGORIES:Conference Pre Event
END:VEVENT
BEGIN:VEVENT
DTSTART;TZID=America/Chicago:20190614T180000
DTEND;TZID=America/Chicago:20190615T180000
DTSTAMP:20260423T080848
CREATED:20190505T201804Z
LAST-MODIFIED:20190505T201804Z
UID:2945-1560535200-1560621600@aadesmoines.org
SUMMARY:IAYPAA 4 Cedar Rapids: Potluck Dinner and Poppin' Tags Thrift Store Prom
DESCRIPTION:
URL:https://aadesmoines.org/event/iaypaa4potluckdinner/
LOCATION:White House\, 1400 Pennsylvania Ave\, Des Moines\, IA\, 50316\, United States
CATEGORIES:Conference Pre Event,Meeting
END:VEVENT
BEGIN:VEVENT
DTSTART;TZID=America/Chicago:20190511T173000
DTEND;TZID=America/Chicago:20190511T200000
DTSTAMP:20260423T080848
CREATED:20190417T221935Z
LAST-MODIFIED:20190417T222004Z
UID:2907-1557595800-1557604800@aadesmoines.org
SUMMARY:IAYPAA 4 Host Committee Italian Potluck Dinner
DESCRIPTION:IAYPAA 4 Host Committee Presents\nThat’s a Spicy Meat-A-Ball Italian Potluck Dinner \nSaturday\, May 11th at The Fellowship Club (Downstairs)\nDoors open 5:30p\, Dinner at 6pm\, Speaker at 7pm (Danielle S. from Cedar Rapids) \n5$ suggested donation\, 50/50 Raffle\nPlease bring an italian dish\, side dish\, salad or dessert to share \nContact Ryan H with questions (319-325-2888)
URL:https://aadesmoines.org/event/iaypaa-4-host-committee-italian-potluck-dinner/
LOCATION:Fellowship Club\, 3224 1st Ave NE\, Cedar Rapids\, IA\, 52402\, United States
CATEGORIES:Conference Pre Event,Potluck/Picnic/BBQ
END:VEVENT
BEGIN:VEVENT
DTSTART;TZID=America/Chicago:20190405T190000
DTEND;TZID=America/Chicago:20190405T220000
DTSTAMP:20260423T080848
CREATED:20190327T231502Z
LAST-MODIFIED:20190327T231502Z
UID:2861-1554490800-1554501600@aadesmoines.org
SUMMARY:IAYPAA IV Trivia Night
DESCRIPTION:IAYPAA 4 Host Committee presents\nA Night of Trivia @\nThe Fellowship Club\n3224 1st Ave NE\nCedar Rapids\, IA\n4/5/2019\n7 pm – 10 pm\nTrivia  round 1 – 7 pm – 8 pm\nAA Speaker 8:15 – 8:30\nMason M. from Iowa City\nTrivia round 2 – 8:45 pm – 9:45 pm\n50/50 Rafle\n$5 suggested donation\nNo one will be turned away\nsee attached flyer\n\nIAYPAA Trivia Night Flyer
URL:https://aadesmoines.org/event/iaypaa-iv-trivia-night/
LOCATION:Fellowship Club\, 3224 1st Ave NE\, Cedar Rapids\, IA\, 52402\, United States
CATEGORIES:Conference Pre Event
END:VEVENT
END:VCALENDAR