BEGIN:VCALENDAR
VERSION:2.0
PRODID:-//AA Des Moines - ECPv6.15.20//NONSGML v1.0//EN
CALSCALE:GREGORIAN
METHOD:PUBLISH
X-WR-CALNAME:AA Des Moines
X-ORIGINAL-URL:https://aadesmoines.org
X-WR-CALDESC:Events for AA Des Moines
REFRESH-INTERVAL;VALUE=DURATION:PT1H
X-Robots-Tag:noindex
X-PUBLISHED-TTL:PT1H
BEGIN:VTIMEZONE
TZID:America/Chicago
BEGIN:DAYLIGHT
TZOFFSETFROM:-0600
TZOFFSETTO:-0500
TZNAME:CDT
DTSTART:20180311T080000
END:DAYLIGHT
BEGIN:STANDARD
TZOFFSETFROM:-0500
TZOFFSETTO:-0600
TZNAME:CST
DTSTART:20181104T070000
END:STANDARD
BEGIN:DAYLIGHT
TZOFFSETFROM:-0600
TZOFFSETTO:-0500
TZNAME:CDT
DTSTART:20190310T080000
END:DAYLIGHT
BEGIN:STANDARD
TZOFFSETFROM:-0500
TZOFFSETTO:-0600
TZNAME:CST
DTSTART:20191103T070000
END:STANDARD
BEGIN:DAYLIGHT
TZOFFSETFROM:-0600
TZOFFSETTO:-0500
TZNAME:CDT
DTSTART:20200308T080000
END:DAYLIGHT
BEGIN:STANDARD
TZOFFSETFROM:-0500
TZOFFSETTO:-0600
TZNAME:CST
DTSTART:20201101T070000
END:STANDARD
BEGIN:DAYLIGHT
TZOFFSETFROM:-0600
TZOFFSETTO:-0500
TZNAME:CDT
DTSTART:20210314T080000
END:DAYLIGHT
BEGIN:STANDARD
TZOFFSETFROM:-0500
TZOFFSETTO:-0600
TZNAME:CST
DTSTART:20211107T070000
END:STANDARD
END:VTIMEZONE
BEGIN:VEVENT
DTSTART;TZID=America/Chicago:20200315T180000
DTEND;TZID=America/Chicago:20200315T200000
DTSTAMP:20260423T080848
CREATED:20200229T231646Z
LAST-MODIFIED:20200310T184327Z
UID:10035-1584295200-1584302400@aadesmoines.org
SUMMARY:Washington Caring & Sharing Group Presents: St. Patrick's Day Dinner
DESCRIPTION:The Washington Caring & Sharing group \nis hosting a St. Patrick’s Day dinner. \nSaturday\, March 15\, 2020 \nCorned Beef and Cabbage provided. \nPlease bring a side dish to share. \nFriends and family are welcome to join. \nGrace Community Church \nWashington\, IA\nDinner at 6:00 pm \nMeeting at 7:00 pm \n$5.00 suggested free will donation \nsee attached flyer
URL:https://aadesmoines.org/event/washington-caring-sharing-group-presents-st-patricks-day-dinner/
LOCATION:Grace Community Church\, 301 W 2nd St\, Washington\, IA\, 52353\, United States
CATEGORIES:Banquet,Meeting
END:VEVENT
BEGIN:VEVENT
DTSTART;TZID=America/Chicago:20200307T100000
DTEND;TZID=America/Chicago:20200307T140000
DTSTAMP:20260423T080848
CREATED:20200103T021058Z
LAST-MODIFIED:20200225T172318Z
UID:6062-1583575200-1583589600@aadesmoines.org
SUMMARY:Oskaloosa Annual AA Spaghetti Dinner
DESCRIPTION:Oskaloosa Annual AA\n\nSpaghetti Dinner\nSt. Paul’s Congregational Church\n501 High Ave East\nOskaloosa\, IA 52577\nSaturday\, 3/7/2020\n10:00 a.m. – Open AA meeting\n12:00 p.m. – Spaghetti dinner\nFollowed by AA speaker\n$5.00 Free will donation\nPlease bring a side dish or dessert to share\n\n\n\nsee attached flyer
URL:https://aadesmoines.org/event/oskaloosa-annual-aa-spaghetti-dinner/
LOCATION:St. Paul’s Congregational Church\, 510 High Ave East\, Oskaloosa\, IA\, 52577\, United States
CATEGORIES:Banquet,Meeting,Potluck/Picnic/BBQ
END:VEVENT
BEGIN:VEVENT
DTSTART;TZID=America/Chicago:20200201T123000
DTEND;TZID=America/Chicago:20200201T220000
DTSTAMP:20260423T080848
CREATED:20200108T035017Z
LAST-MODIFIED:20200108T035017Z
UID:6502-1580560200-1580594400@aadesmoines.org
SUMMARY:Intergroup Banquet 2020
DESCRIPTION:Intergroup Banquet\nSaturday\, 2/1/2020\nForte Banquet and Conference Center\n\n615 3rd St.\nDes Moines IA 50309\n$30.00 per ticket if registered by 1/24/2020\n$40.00 after  that date\n\nFlyer:\nIntergroup Banquet 2020 Flyer\n \nRegister Online:\nhttp://aadsmco.org/banquet/registration1.cfm
URL:https://aadesmoines.org/event/intergroup-banquet-2020/
LOCATION:Forte Banquet & Conference Center\, 615 3rd ST\, Des Moines\, IA\, 50309\, United States
CATEGORIES:Banquet,Conference,Meeting
END:VEVENT
BEGIN:VEVENT
DTSTART;TZID=America/Chicago:20190216T180000
DTEND;TZID=America/Chicago:20190216T210000
DTSTAMP:20260423T080848
CREATED:20190129T223822Z
LAST-MODIFIED:20190305T232109Z
UID:2548-1550340000-1550350800@aadesmoines.org
SUMMARY:Mason City Chip Night Dinner
DESCRIPTION:Chip Night Dinner\n6:00 p.m. – Dinner\n7:00 p.m. – Annual Al-Anon Bake Auction\n8:00 p.m. – AA Chip Meeting
URL:https://aadesmoines.org/event/mason-city-chip-night-dinner/
LOCATION:Mason City Clubhouse\, 207 8th Place SE\, Mason City\, IA\, 50401\, United States
CATEGORIES:Banquet
END:VEVENT
BEGIN:VEVENT
DTSTART;TZID=America/Chicago:20190202T120000
DTEND;TZID=America/Chicago:20190202T210000
DTSTAMP:20260423T080848
CREATED:20190120T192403Z
LAST-MODIFIED:20190120T220742Z
UID:2265-1549108800-1549141200@aadesmoines.org
SUMMARY:Intergroup Banquet
DESCRIPTION:Doors open 12:00 PM\nAlateen speaker (Andrew L) 1:00 PM\nAl-Anon Speaker (Lisa G) 1:30 PM\nTraditions Speakers (Andrea & Scott H) 3:00 PM\nDinner/Raffle/Sobriety Countdown 5:00 PM\nMain Speaker (Anson P) 7:00 PM – $30 preregistration – $40 after 1/25/19\n\nIntergroup Banquet 2019 Flyer \n  \n 
URL:https://aadesmoines.org/event/intergroup-banquet/
LOCATION:Forte Banquet & Conference Center\, 615 3rd ST\, Des Moines\, IA\, 50309\, United States
CATEGORIES:Banquet
END:VEVENT
END:VCALENDAR