BEGIN:VCALENDAR
VERSION:2.0
PRODID:-//AA Des Moines - ECPv6.15.20//NONSGML v1.0//EN
CALSCALE:GREGORIAN
METHOD:PUBLISH
X-WR-CALNAME:AA Des Moines
X-ORIGINAL-URL:https://aadesmoines.org
X-WR-CALDESC:Events for AA Des Moines
REFRESH-INTERVAL;VALUE=DURATION:PT1H
X-Robots-Tag:noindex
X-PUBLISHED-TTL:PT1H
BEGIN:VTIMEZONE
TZID:America/Chicago
BEGIN:DAYLIGHT
TZOFFSETFROM:-0600
TZOFFSETTO:-0500
TZNAME:CDT
DTSTART:20250309T080000
END:DAYLIGHT
BEGIN:STANDARD
TZOFFSETFROM:-0500
TZOFFSETTO:-0600
TZNAME:CST
DTSTART:20251102T070000
END:STANDARD
BEGIN:DAYLIGHT
TZOFFSETFROM:-0600
TZOFFSETTO:-0500
TZNAME:CDT
DTSTART:20260308T080000
END:DAYLIGHT
BEGIN:STANDARD
TZOFFSETFROM:-0500
TZOFFSETTO:-0600
TZNAME:CST
DTSTART:20261101T070000
END:STANDARD
BEGIN:DAYLIGHT
TZOFFSETFROM:-0600
TZOFFSETTO:-0500
TZNAME:CDT
DTSTART:20270314T080000
END:DAYLIGHT
BEGIN:STANDARD
TZOFFSETFROM:-0500
TZOFFSETTO:-0600
TZNAME:CST
DTSTART:20271107T070000
END:STANDARD
END:VTIMEZONE
BEGIN:VEVENT
DTSTART;TZID=America/Chicago:20260503T130000
DTEND;TZID=America/Chicago:20260503T140000
DTSTAMP:20260422T234734
CREATED:20260124T201116Z
LAST-MODIFIED:20260124T201116Z
UID:262168-1777813200-1777816800@aadesmoines.org
SUMMARY:PI/CPC Monthly Meeting
DESCRIPTION:The Whitehouse\n1st Sunday of the Month at 1pm
URL:https://aadesmoines.org/event/pi-cpc-monthly-meeting-8/
END:VEVENT
END:VCALENDAR