BEGIN:VCALENDAR
VERSION:2.0
PRODID:-//AA Des Moines - ECPv6.15.20//NONSGML v1.0//EN
CALSCALE:GREGORIAN
METHOD:PUBLISH
X-ORIGINAL-URL:https://aadesmoines.org
X-WR-CALDESC:Events for AA Des Moines
REFRESH-INTERVAL;VALUE=DURATION:PT1H
X-Robots-Tag:noindex
X-PUBLISHED-TTL:PT1H
BEGIN:VTIMEZONE
TZID:America/Chicago
BEGIN:DAYLIGHT
TZOFFSETFROM:-0600
TZOFFSETTO:-0500
TZNAME:CDT
DTSTART:20250309T080000
END:DAYLIGHT
BEGIN:STANDARD
TZOFFSETFROM:-0500
TZOFFSETTO:-0600
TZNAME:CST
DTSTART:20251102T070000
END:STANDARD
BEGIN:DAYLIGHT
TZOFFSETFROM:-0600
TZOFFSETTO:-0500
TZNAME:CDT
DTSTART:20260308T080000
END:DAYLIGHT
BEGIN:STANDARD
TZOFFSETFROM:-0500
TZOFFSETTO:-0600
TZNAME:CST
DTSTART:20261101T070000
END:STANDARD
BEGIN:DAYLIGHT
TZOFFSETFROM:-0600
TZOFFSETTO:-0500
TZNAME:CDT
DTSTART:20270314T080000
END:DAYLIGHT
BEGIN:STANDARD
TZOFFSETFROM:-0500
TZOFFSETTO:-0600
TZNAME:CST
DTSTART:20271107T070000
END:STANDARD
END:VTIMEZONE
BEGIN:VEVENT
DTSTART;TZID=America/Chicago:20260227T080000
DTEND;TZID=America/Chicago:20260301T170000
DTSTAMP:20260423T012910
CREATED:20251119T192401Z
LAST-MODIFIED:20251119T192401Z
UID:262118-1772179200-1772384400@aadesmoines.org
SUMMARY:WEST CENTRAL REGIONAL ALCOHOLICS ANONYMOUS SERVICE CONFERENCE 2026
DESCRIPTION:February 27\, 2026 @ 8:00 am – March 1\, 2026 @ 5:00 pm \nDoubletree Downtown Cedar Rapids\n350 1st Ave NE\,\nCedar Rapids\, IA\,\nUnited States
URL:https://aadesmoines.org/event/west-central-regional-alcoholics-anonymous-service-conference-2026/
END:VEVENT
BEGIN:VEVENT
DTSTART;TZID=America/Chicago:20260301T130000
DTEND;TZID=America/Chicago:20260301T140000
DTSTAMP:20260423T012910
CREATED:20260124T200601Z
LAST-MODIFIED:20260124T200601Z
UID:262164-1772370000-1772373600@aadesmoines.org
SUMMARY:PI/CPC Monthly Meeting
DESCRIPTION:The Whitehouse\n1st Sunday of the Month at 1pm
URL:https://aadesmoines.org/event/pi-cpc-monthly-meeting-6/
END:VEVENT
END:VCALENDAR